BEGIN:VCALENDAR
VERSION:2.0
PRODID:-//Approche Familles - ECPv6.15.19//NONSGML v1.0//EN
CALSCALE:GREGORIAN
METHOD:PUBLISH
X-ORIGINAL-URL:https://approchefamilles.ca
X-WR-CALDESC:Évènements pour Approche Familles
REFRESH-INTERVAL;VALUE=DURATION:PT1H
X-Robots-Tag:noindex
X-PUBLISHED-TTL:PT1H
BEGIN:VTIMEZONE
TZID:America/Toronto
BEGIN:DAYLIGHT
TZOFFSETFROM:-0500
TZOFFSETTO:-0400
TZNAME:EDT
DTSTART:20250309T070000
END:DAYLIGHT
BEGIN:STANDARD
TZOFFSETFROM:-0400
TZOFFSETTO:-0500
TZNAME:EST
DTSTART:20251102T060000
END:STANDARD
BEGIN:DAYLIGHT
TZOFFSETFROM:-0500
TZOFFSETTO:-0400
TZNAME:EDT
DTSTART:20260308T070000
END:DAYLIGHT
BEGIN:STANDARD
TZOFFSETFROM:-0400
TZOFFSETTO:-0500
TZNAME:EST
DTSTART:20261101T060000
END:STANDARD
BEGIN:DAYLIGHT
TZOFFSETFROM:-0500
TZOFFSETTO:-0400
TZNAME:EDT
DTSTART:20270314T070000
END:DAYLIGHT
BEGIN:STANDARD
TZOFFSETFROM:-0400
TZOFFSETTO:-0500
TZNAME:EST
DTSTART:20271107T060000
END:STANDARD
END:VTIMEZONE
BEGIN:VEVENT
DTSTART;TZID=America/Toronto:20260421T090000
DTEND;TZID=America/Toronto:20260421T113000
DTSTAMP:20260419T125721
CREATED:20260326T133606Z
LAST-MODIFIED:20260326T133606Z
UID:5332-1776762000-1776771000@approchefamilles.ca
SUMMARY:Atelier tortues trotteuses - ABC de la famille
DESCRIPTION:Pour participer aux ateliers\, vous devez obligatoirement devenir membre de l’ABC de la Famille. Pour devenir membre\, il suffit de se présenter à l’organisme et de payer 5 $ annuellement. \nDu 21 avril au 9 juin 2026\nCes ateliers\, selon le groupe d’âge de l’enfant\, offrent un moment privilégié afin de favoriser un lien d’attachement sécurisant entre le parent et son enfant. À travers les rencontres\, le parent reçoit des outils et des stratégies à mettre en place à la maison et il est soutenu par une intervenante dans leurs applications. En plus de participer à des activités interactives avec son enfant\, le parent a l’opportunité de se créer un réseau avec les autres parents participants et l’enfant socialise avec d’autres enfants de son âge.\nPlus précisément\, les ateliers favorisent le développement optimal de l’enfant en : \n\naméliorant les compétences parentales et les relations parent-enfant ;\ndiminuant l’isolement social ;\naméliorant l’estime de soi chez l’enfant ;\noffrant des activités axées sur l’enfant.\n\n  \nINSCRIPTION PAR TÉLÉPHONE : 450 377-4380
URL:https://approchefamilles.ca/event/atelier-tortues-trotteuses-abc-de-la-famille-9/
LOCATION:ABC de la Famille\, 20\, rue St-Pierre\, Salaberry-de-Valleyfield\, Québec\, J6T 1E7\, Canada
CATEGORIES:Ateliers parents-enfants,Salaberry-de-Valleyfield
ORGANIZER;CN="ABC de la famille":MAILTO:info@abcfamille.ca
END:VEVENT
BEGIN:VEVENT
DTSTART;TZID=America/Toronto:20260421T090000
DTEND;TZID=America/Toronto:20260421T113000
DTSTAMP:20260419T125721
CREATED:20260326T135555Z
LAST-MODIFIED:20260326T135614Z
UID:5346-1776762000-1776771000@approchefamilles.ca
SUMMARY:Cuisines du monde - ABC de la famille
DESCRIPTION:Cuisines du monde \nUn atelier culinaire axé sur des mets variés provenant de partout dans le monde! Pour trouver des nouvelles recettes familiales à bons prix\, cuisiner dans le plaisir et apprendre des techniques qui serviront au quotidien. \nDu 21 avril au 9 juin 2026 \n*Pour les parents d’enfants 0-12 ans \n*La halte-garderie est offerte aux enfants de 0-5 ans. \n 
URL:https://approchefamilles.ca/event/cuisines-du-monde-abc-de-la-famille/
LOCATION:ABC de la Famille\, 20\, rue St-Pierre\, Salaberry-de-Valleyfield\, Québec\, J6T 1E7\, Canada
CATEGORIES:Cuisines collectives et ateliers cuisine,Salaberry-de-Valleyfield
ORGANIZER;CN="ABC de la famille":MAILTO:info@abcfamille.ca
END:VEVENT
BEGIN:VEVENT
DTSTART;TZID=America/Toronto:20260421T130000
DTEND;TZID=America/Toronto:20260421T150000
DTSTAMP:20260419T125721
CREATED:20260326T140630Z
LAST-MODIFIED:20260326T140630Z
UID:5360-1776776400-1776783600@approchefamilles.ca
SUMMARY:En route vers l'école - ABC de la famille
DESCRIPTION:En route vers l’école\nPour les 4-5 ans\nDu 21 avril  au 9 juin 2026 \nUn atelier qui vise à démystifier et à échanger autour de cette étape importante qu’est l’entrée à l’école. Que devons-nous savoir avant que notre enfant commence la maternelle? À quoi s’attendre et comment s’y préparer? On discute de tout cela dans un premier temps\, et en seconde partie on propose différentes activités stimulantes aux enfants. \n\n\n  \n\n\nPour vous inscrire\, vous devez obligatoirement devenir membre de l’ABC de la famille\, il vous en coutera 5 $ annuellement\, renouvelable à partir de juin l’année suivante. \nIl y a une halte-garderie disponible gratuitement pendant les ateliers. \nEt sur demande\, le transport est gratuit.
URL:https://approchefamilles.ca/event/en-route-vers-lecole-abc-de-la-famille-13/
LOCATION:ABC de la Famille\, 20\, rue St-Pierre\, Salaberry-de-Valleyfield\, Québec\, J6T 1E7\, Canada
CATEGORIES:Ateliers parents seulement,Salaberry-de-Valleyfield
ORGANIZER;CN="ABC de la famille":MAILTO:info@abcfamille.ca
END:VEVENT
END:VCALENDAR