BEGIN:VCALENDAR
VERSION:2.0
PRODID:-//Approche Familles - ECPv6.15.20//NONSGML v1.0//EN
CALSCALE:GREGORIAN
METHOD:PUBLISH
X-ORIGINAL-URL:https://approchefamilles.ca
X-WR-CALDESC:Évènements pour Approche Familles
REFRESH-INTERVAL;VALUE=DURATION:PT1H
X-Robots-Tag:noindex
X-PUBLISHED-TTL:PT1H
BEGIN:VTIMEZONE
TZID:America/Toronto
BEGIN:DAYLIGHT
TZOFFSETFROM:-0500
TZOFFSETTO:-0400
TZNAME:EDT
DTSTART:20250309T070000
END:DAYLIGHT
BEGIN:STANDARD
TZOFFSETFROM:-0400
TZOFFSETTO:-0500
TZNAME:EST
DTSTART:20251102T060000
END:STANDARD
BEGIN:DAYLIGHT
TZOFFSETFROM:-0500
TZOFFSETTO:-0400
TZNAME:EDT
DTSTART:20260308T070000
END:DAYLIGHT
BEGIN:STANDARD
TZOFFSETFROM:-0400
TZOFFSETTO:-0500
TZNAME:EST
DTSTART:20261101T060000
END:STANDARD
BEGIN:DAYLIGHT
TZOFFSETFROM:-0500
TZOFFSETTO:-0400
TZNAME:EDT
DTSTART:20270314T070000
END:DAYLIGHT
BEGIN:STANDARD
TZOFFSETFROM:-0400
TZOFFSETTO:-0500
TZNAME:EST
DTSTART:20271107T060000
END:STANDARD
END:VTIMEZONE
BEGIN:VEVENT
DTSTART;TZID=America/Toronto:20260226T090000
DTEND;TZID=America/Toronto:20260226T113000
DTSTAMP:20260421T094202
CREATED:20251209T185246Z
LAST-MODIFIED:20251209T185246Z
UID:4910-1772096400-1772105400@approchefamilles.ca
SUMMARY:YAPP - ABC de la famille
DESCRIPTION:YAPP\nAtelier pour parents : Y’a personne de parfait \nDu 22 janvier au 19 mars 2026 \nYAPP est un programme d’enrichissement de l’expérience parentale\, offert pour les parents d’enfants âgés de cinq ans et moins. Il s’agit d’une série de 8 à 10 rencontres et le programme est conçu pour répondre aux besoins des parents. \n\n\n\nLes parents participent à des rencontres de groupe qui visent à :\n\n\n\n\npromouvoir les compétences parentales positives ;\naméliorer la compréhension des parents à l’égard de la santé\, de la sécurité et du comportement de leurs enfants ;\naider les parents à renforcer leurs compétences et à en acquérir de nouvelles ;\naméliorer l’estime de soi et la capacité d’adaptation des parents ;\naccroître l’entraide et le soutien mutuel des parents ;\nmettre les parents en contact avec les services et les ressources communautaires ;\naider à prévenir la violence familiale
URL:https://approchefamilles.ca/event/yapp-abc-de-la-famille-25/
LOCATION:ABC de la Famille\, 20\, rue St-Pierre\, Salaberry-de-Valleyfield\, Québec\, J6T 1E7\, Canada
CATEGORIES:Ateliers parents seulement,Salaberry-de-Valleyfield
ORGANIZER;CN="ABC de la famille":MAILTO:info@abcfamille.ca
END:VEVENT
BEGIN:VEVENT
DTSTART;TZID=America/Toronto:20260226T090000
DTEND;TZID=America/Toronto:20260226T120000
DTSTAMP:20260421T094202
CREATED:20260218T193700Z
LAST-MODIFIED:20260218T193700Z
UID:5204-1772096400-1772107200@approchefamilles.ca
SUMMARY:Groupe d'entraide pour parents familles monoparentales / recomposées
DESCRIPTION:
URL:https://approchefamilles.ca/event/groupe-dentraide-pour-parents-familles-monoparentales-recomposees-2/
LOCATION:Entraide pour Monoparentales et Familles Recomposées du Suroît\, 489\, Chemin Larocque\, Salaberry-de-Valleyfield\, Québec\, J6T 4C8\, Canada
CATEGORIES:Ateliers parents seulement,Salaberry-de-Valleyfield
ATTACH;FMTTYPE=image/jpeg:https://approchefamilles.ca/wp-content/uploads/2026/02/637179287_1347457573854395_318830913842335968_n.jpg
ORGANIZER;CN="Entraide pour Monoparentales et Familles recompos%C3%A9es du Suro%C3%AEt":MAILTO:info@entraidedusuroit.ca
END:VEVENT
BEGIN:VEVENT
DTSTART;TZID=America/Toronto:20260226T090000
DTEND;TZID=America/Toronto:20260226T130000
DTSTAMP:20260421T094202
CREATED:20251209T191250Z
LAST-MODIFIED:20251209T191250Z
UID:4924-1772096400-1772110800@approchefamilles.ca
SUMMARY:Cuisines collectives - ABC de la famille
DESCRIPTION:Cuisines collectives \nUn classique des ateliers culinaires et toujours aussi populaire ! Pour trouver des nouvelles recettes familiales à bons prix\, cuisiner dans le plaisir et apprendre des techniques qui serviront au quotidien. \n*Pour les parents d’enfants 0-12 ans \nIl y aura deux groupes qui s’alterneront 1 semaine sur 2 les jeudis de 9h à 13h : \n1 – du 29 janvier au 7 mai 2026 \n2 – du 5 février au 14 mai 2026 \n*La halte-garderie est offerte aux enfants de 0-5 ans. \nCoût : 7$ par personne\, par atelier (par exemple\, pour une famille de 4\, cela revient à 28$ pour 4 recettes. Une aubaine !)
URL:https://approchefamilles.ca/event/cuisines-collectives-abc-de-la-famille-85/
LOCATION:ABC de la Famille\, 20\, rue St-Pierre\, Salaberry-de-Valleyfield\, Québec\, J6T 1E7\, Canada
CATEGORIES:Ateliers parents seulement,Salaberry-de-Valleyfield
ORGANIZER;CN="ABC de la famille":MAILTO:info@abcfamille.ca
END:VEVENT
BEGIN:VEVENT
DTSTART;TZID=America/Toronto:20260226T090000
DTEND;TZID=America/Toronto:20260226T130000
DTSTAMP:20260421T094202
CREATED:20251209T191337Z
LAST-MODIFIED:20251209T191337Z
UID:4926-1772096400-1772110800@approchefamilles.ca
SUMMARY:Cuisines collectives - ABC de la famille
DESCRIPTION:Cuisines collectives \nUn classique des ateliers culinaires et toujours aussi populaire ! Pour trouver des nouvelles recettes familiales à bons prix\, cuisiner dans le plaisir et apprendre des techniques qui serviront au quotidien. \n*Pour les parents d’enfants 0-12 ans \nIl y aura deux groupes qui s’alterneront 1 semaine sur 2 les jeudis de 9h à 13h : \n1 – du 29 janvier au 7 mai 2026 \n2 – du 5 février au 14 mai 2026 \n*La halte-garderie est offerte aux enfants de 0-5 ans. \nCoût : 7$ par personne\, par atelier (par exemple\, pour une famille de 4\, cela revient à 28$ pour 4 recettes. Une aubaine !)
URL:https://approchefamilles.ca/event/cuisines-collectives-abc-de-la-famille-86/
LOCATION:ABC de la Famille\, 20\, rue St-Pierre\, Salaberry-de-Valleyfield\, Québec\, J6T 1E7\, Canada
CATEGORIES:Cuisines collectives et ateliers cuisine,Salaberry-de-Valleyfield
ORGANIZER;CN="ABC de la famille":MAILTO:info@abcfamille.ca
END:VEVENT
END:VCALENDAR