BEGIN:VCALENDAR
VERSION:2.0
PRODID:-//Approche Familles - ECPv6.15.19//NONSGML v1.0//EN
CALSCALE:GREGORIAN
METHOD:PUBLISH
X-ORIGINAL-URL:https://approchefamilles.ca
X-WR-CALDESC:Évènements pour Approche Familles
REFRESH-INTERVAL;VALUE=DURATION:PT1H
X-Robots-Tag:noindex
X-PUBLISHED-TTL:PT1H
BEGIN:VTIMEZONE
TZID:America/Toronto
BEGIN:DAYLIGHT
TZOFFSETFROM:-0500
TZOFFSETTO:-0400
TZNAME:EDT
DTSTART:20240310T070000
END:DAYLIGHT
BEGIN:STANDARD
TZOFFSETFROM:-0400
TZOFFSETTO:-0500
TZNAME:EST
DTSTART:20241103T060000
END:STANDARD
BEGIN:DAYLIGHT
TZOFFSETFROM:-0500
TZOFFSETTO:-0400
TZNAME:EDT
DTSTART:20250309T070000
END:DAYLIGHT
BEGIN:STANDARD
TZOFFSETFROM:-0400
TZOFFSETTO:-0500
TZNAME:EST
DTSTART:20251102T060000
END:STANDARD
BEGIN:DAYLIGHT
TZOFFSETFROM:-0500
TZOFFSETTO:-0400
TZNAME:EDT
DTSTART:20260308T070000
END:DAYLIGHT
BEGIN:STANDARD
TZOFFSETFROM:-0400
TZOFFSETTO:-0500
TZNAME:EST
DTSTART:20261101T060000
END:STANDARD
END:VTIMEZONE
BEGIN:VEVENT
DTSTART;TZID=America/Toronto:20251204T090000
DTEND;TZID=America/Toronto:20251204T110000
DTSTAMP:20260419T141413
CREATED:20250903T152825Z
LAST-MODIFIED:20250903T152825Z
UID:4350-1764838800-1764846000@approchefamilles.ca
SUMMARY:Cuisines collectives - ABC de la famille
DESCRIPTION:Cuisines collectives \nUn classique des ateliers culinaires et toujours aussi populaire ! Pour trouver des nouvelles recettes familiales à bons prix\, cuisiner dans le plaisir et apprendre des techniques qui serviront au quotidien. \n*Pour les parents d’enfants 0-12 ans \nIl y aura deux groupes qui s’alterneront 1 semaine sur 2 les jeudis de 9h à 13h : \n1 – du 18 septembre au 11 décembre \n2 – du 25 septembre au 18 décembre \n*La halte-garderie est offerte aux enfants de 0-5 ans. \nCoût : 7$ par personne\, par atelier (par exemple\, pour une famille de 4\, cela revient à 28$ pour 4 recettes. Une aubaine !)
URL:https://approchefamilles.ca/event/cuisines-collectives-abc-de-la-famille-78/
LOCATION:ABC de la Famille\, 20\, rue St-Pierre\, Salaberry-de-Valleyfield\, Québec\, J6T 1E7\, Canada
CATEGORIES:Cuisines collectives et ateliers cuisine,Salaberry-de-Valleyfield
ORGANIZER;CN="ABC de la famille":MAILTO:info@abcfamille.ca
END:VEVENT
BEGIN:VEVENT
DTSTART;TZID=America/Toronto:20251204T170000
DTEND;TZID=America/Toronto:20251204T190000
DTSTAMP:20260419T141413
CREATED:20251103T185110Z
LAST-MODIFIED:20251103T185110Z
UID:4668-1764867600-1764874800@approchefamilles.ca
SUMMARY:5 à 7 communautaires - École Frédéric-Girard
DESCRIPTION:Le jeudi 4 décembre prochain\, l’école Frédéric-Girard sera l’hôte d’un 5 à 7 communautaires de Salaberry-de-Valleyfield de l’année.\nCet évènement se veut un lieu de rassemblement convivial et festif pour ouvrir l’école à la communauté et permettre à tous de mieux connaitre les ressources qui sont disponibles pour eux dans le milieu. Un souper (spaghetti\, dessert\, pain\, café et jus) est offert gratuitement à la communauté. Des kiosques d’organismes sont sur place afin de présenter leur service et des animations sont prévues pour les plus jeunes.\nLe 4 décembre\, la thématique sera « Le mystère de Noël! »Bienvenue à tous!
URL:https://approchefamilles.ca/event/5-a-7-communautaires-ecole-frederic-girard/
LOCATION:École Frédéric-Girard\, 84\, boulevard Quevillon\, Salaberry-de-Valleyfield\, QC\, Canada
CATEGORIES:5 à 7 communautaires,Salaberry-de-Valleyfield
ATTACH;FMTTYPE=image/jpeg:https://approchefamilles.ca/wp-content/uploads/2025/11/5-a-7.jpg
ORGANIZER;CN="PRAQ":MAILTO:info@praq.org
END:VEVENT
END:VCALENDAR