BEGIN:VCALENDAR
VERSION:2.0
PRODID:-//Approche Familles - ECPv6.15.20//NONSGML v1.0//EN
CALSCALE:GREGORIAN
METHOD:PUBLISH
X-WR-CALNAME:Approche Familles
X-ORIGINAL-URL:https://approchefamilles.ca
X-WR-CALDESC:Évènements pour Approche Familles
REFRESH-INTERVAL;VALUE=DURATION:PT1H
X-Robots-Tag:noindex
X-PUBLISHED-TTL:PT1H
BEGIN:VTIMEZONE
TZID:America/Toronto
BEGIN:DAYLIGHT
TZOFFSETFROM:-0500
TZOFFSETTO:-0400
TZNAME:EDT
DTSTART:20250309T070000
END:DAYLIGHT
BEGIN:STANDARD
TZOFFSETFROM:-0400
TZOFFSETTO:-0500
TZNAME:EST
DTSTART:20251102T060000
END:STANDARD
BEGIN:DAYLIGHT
TZOFFSETFROM:-0500
TZOFFSETTO:-0400
TZNAME:EDT
DTSTART:20260308T070000
END:DAYLIGHT
BEGIN:STANDARD
TZOFFSETFROM:-0400
TZOFFSETTO:-0500
TZNAME:EST
DTSTART:20261101T060000
END:STANDARD
BEGIN:DAYLIGHT
TZOFFSETFROM:-0500
TZOFFSETTO:-0400
TZNAME:EDT
DTSTART:20270314T070000
END:DAYLIGHT
BEGIN:STANDARD
TZOFFSETFROM:-0400
TZOFFSETTO:-0500
TZNAME:EST
DTSTART:20271107T060000
END:STANDARD
END:VTIMEZONE
BEGIN:VEVENT
DTSTART;TZID=America/Toronto:20260422T090000
DTEND;TZID=America/Toronto:20260422T130000
DTSTAMP:20260421T041844
CREATED:20260316T180020Z
LAST-MODIFIED:20260316T180020Z
UID:5296-1776848400-1776862800@approchefamilles.ca
SUMMARY:Cuisines collectives - Actions Familles
DESCRIPTION:
URL:https://approchefamilles.ca/event/cuisines-collectives-actions-familles-21/
LOCATION:Actions Familles\, 122\, Saint-Joseph\, Sainte-Martine\, Québec\, J0S 1V0\, Canada
CATEGORIES:Cuisines collectives et ateliers cuisine,Sainte-Martine
ATTACH;FMTTYPE=image/jpeg:https://approchefamilles.ca/wp-content/uploads/2026/03/CUISINES-COLLECTIVES.jpg
ORGANIZER;CN="Actions Familles":MAILTO:info@actionsfamilles.org
END:VEVENT
BEGIN:VEVENT
DTSTART;TZID=America/Toronto:20260423T090000
DTEND;TZID=America/Toronto:20260423T110000
DTSTAMP:20260421T041844
CREATED:20260408T150316Z
LAST-MODIFIED:20260408T150316Z
UID:5451-1776934800-1776942000@approchefamilles.ca
SUMMARY:Les matinées de Guylaine - Actions Familles
DESCRIPTION:
URL:https://approchefamilles.ca/event/les-matinees-de-guylaine-actions-familles-44/
LOCATION:Actions Familles\, 122\, Saint-Joseph\, Sainte-Martine\, Québec\, J0S 1V0\, Canada
CATEGORIES:Ateliers parents-enfants,Sainte-Martine
ATTACH;FMTTYPE=image/jpeg:https://approchefamilles.ca/wp-content/uploads/2026/04/matinee-de-guylaine.jpg
ORGANIZER;CN="Actions Familles":MAILTO:info@actionsfamilles.org
END:VEVENT
BEGIN:VEVENT
DTSTART;TZID=America/Toronto:20260425T120000
DTEND;TZID=America/Toronto:20260425T130000
DTSTAMP:20260421T041844
CREATED:20260408T150643Z
LAST-MODIFIED:20260408T150643Z
UID:5459-1777118400-1777122000@approchefamilles.ca
SUMMARY:Cuisines parents/enfant avec Laurie - Actions Familles
DESCRIPTION:
URL:https://approchefamilles.ca/event/cuisines-parents-enfant-avec-laurie-actions-familles-4/
LOCATION:À la maison\, par vidéo
CATEGORIES:Conférence ou atelier en ligne,Sainte-Martine
ATTACH;FMTTYPE=image/jpeg:https://approchefamilles.ca/wp-content/uploads/2026/04/cuisine-parent-enfant-laurie.jpg
ORGANIZER;CN="Actions Familles":MAILTO:info@actionsfamilles.org
END:VEVENT
BEGIN:VEVENT
DTSTART;TZID=America/Toronto:20260429T090000
DTEND;TZID=America/Toronto:20260429T130000
DTSTAMP:20260421T041844
CREATED:20260316T180106Z
LAST-MODIFIED:20260316T180106Z
UID:5298-1777453200-1777467600@approchefamilles.ca
SUMMARY:Cuisines collectives - Actions Familles
DESCRIPTION:
URL:https://approchefamilles.ca/event/cuisines-collectives-actions-familles-22/
LOCATION:Actions Familles\, 122\, Saint-Joseph\, Sainte-Martine\, Québec\, J0S 1V0\, Canada
CATEGORIES:Cuisines collectives et ateliers cuisine,Sainte-Martine
ATTACH;FMTTYPE=image/jpeg:https://approchefamilles.ca/wp-content/uploads/2026/03/CUISINES-COLLECTIVES.jpg
ORGANIZER;CN="Actions Familles":MAILTO:info@actionsfamilles.org
END:VEVENT
BEGIN:VEVENT
DTSTART;TZID=America/Toronto:20260429T090000
DTEND;TZID=America/Toronto:20260429T130000
DTSTAMP:20260421T041844
CREATED:20260408T151307Z
LAST-MODIFIED:20260408T151307Z
UID:5471-1777453200-1777467600@approchefamilles.ca
SUMMARY:Cuisines collectives - Actions Familles
DESCRIPTION:
URL:https://approchefamilles.ca/event/cuisines-collectives-actions-familles-25/
LOCATION:Actions Familles\, 122\, Saint-Joseph\, Sainte-Martine\, Québec\, J0S 1V0\, Canada
CATEGORIES:Cuisines collectives et ateliers cuisine,Sainte-Martine
ATTACH;FMTTYPE=image/jpeg:https://approchefamilles.ca/wp-content/uploads/2026/04/cuisine-collectives.jpg
ORGANIZER;CN="Actions Familles":MAILTO:info@actionsfamilles.org
END:VEVENT
BEGIN:VEVENT
DTSTART;TZID=America/Toronto:20260430T090000
DTEND;TZID=America/Toronto:20260430T110000
DTSTAMP:20260421T041844
CREATED:20260408T150158Z
LAST-MODIFIED:20260408T150158Z
UID:5449-1777539600-1777546800@approchefamilles.ca
SUMMARY:Les matinées de Guylaine - Actions Familles
DESCRIPTION:
URL:https://approchefamilles.ca/event/les-matinees-de-guylaine-actions-familles-43/
LOCATION:Actions Familles\, 122\, Saint-Joseph\, Sainte-Martine\, Québec\, J0S 1V0\, Canada
CATEGORIES:Ateliers parents seulement,Sainte-Martine
ATTACH;FMTTYPE=image/jpeg:https://approchefamilles.ca/wp-content/uploads/2026/04/Capture.jpg
ORGANIZER;CN="Actions Familles":MAILTO:info@actionsfamilles.org
END:VEVENT
END:VCALENDAR