BEGIN:VCALENDAR
VERSION:2.0
PRODID:-//Approche Familles - ECPv6.15.19//NONSGML v1.0//EN
CALSCALE:GREGORIAN
METHOD:PUBLISH
X-WR-CALNAME:Approche Familles
X-ORIGINAL-URL:https://approchefamilles.ca
X-WR-CALDESC:Évènements pour Approche Familles
REFRESH-INTERVAL;VALUE=DURATION:PT1H
X-Robots-Tag:noindex
X-PUBLISHED-TTL:PT1H
BEGIN:VTIMEZONE
TZID:America/Toronto
BEGIN:DAYLIGHT
TZOFFSETFROM:-0500
TZOFFSETTO:-0400
TZNAME:EDT
DTSTART:20240310T070000
END:DAYLIGHT
BEGIN:STANDARD
TZOFFSETFROM:-0400
TZOFFSETTO:-0500
TZNAME:EST
DTSTART:20241103T060000
END:STANDARD
BEGIN:DAYLIGHT
TZOFFSETFROM:-0500
TZOFFSETTO:-0400
TZNAME:EDT
DTSTART:20250309T070000
END:DAYLIGHT
BEGIN:STANDARD
TZOFFSETFROM:-0400
TZOFFSETTO:-0500
TZNAME:EST
DTSTART:20251102T060000
END:STANDARD
BEGIN:DAYLIGHT
TZOFFSETFROM:-0500
TZOFFSETTO:-0400
TZNAME:EDT
DTSTART:20260308T070000
END:DAYLIGHT
BEGIN:STANDARD
TZOFFSETFROM:-0400
TZOFFSETTO:-0500
TZNAME:EST
DTSTART:20261101T060000
END:STANDARD
END:VTIMEZONE
BEGIN:VEVENT
DTSTART;TZID=America/Toronto:20251117T190000
DTEND;TZID=America/Toronto:20251117T201500
DTSTAMP:20260420T015538
CREATED:20251111T202749Z
LAST-MODIFIED:20251111T202749Z
UID:4704-1763406000-1763410500@approchefamilles.ca
SUMMARY:Conférence - Saint-Urbain-Premier
DESCRIPTION:
URL:https://approchefamilles.ca/event/conference-saint-urbain-premier/
LOCATION:Bibliothèque Armand-Miller\, 9\, rue de l'École\, Saint-Urbain-Premier\, Québec\, J0S 1Y0\, Canada
CATEGORIES:Conférence en présentiel,Saint-Urbain-Premier
ATTACH;FMTTYPE=image/jpeg:https://approchefamilles.ca/wp-content/uploads/2025/11/conference-saint-urbain-premier.jpg
ORGANIZER;CN="Comit%C3%A9 culturel de Saint-Urbain-Premier":MAILTO:culture@munsup.ca
END:VEVENT
END:VCALENDAR