BEGIN:VCALENDAR
VERSION:2.0
PRODID:-//Approche Familles - ECPv6.15.20//NONSGML v1.0//EN
CALSCALE:GREGORIAN
METHOD:PUBLISH
X-WR-CALNAME:Approche Familles
X-ORIGINAL-URL:https://approchefamilles.ca
X-WR-CALDESC:Évènements pour Approche Familles
REFRESH-INTERVAL;VALUE=DURATION:PT1H
X-Robots-Tag:noindex
X-PUBLISHED-TTL:PT1H
BEGIN:VTIMEZONE
TZID:America/Toronto
BEGIN:DAYLIGHT
TZOFFSETFROM:-0500
TZOFFSETTO:-0400
TZNAME:EDT
DTSTART:20250309T070000
END:DAYLIGHT
BEGIN:STANDARD
TZOFFSETFROM:-0400
TZOFFSETTO:-0500
TZNAME:EST
DTSTART:20251102T060000
END:STANDARD
BEGIN:DAYLIGHT
TZOFFSETFROM:-0500
TZOFFSETTO:-0400
TZNAME:EDT
DTSTART:20260308T070000
END:DAYLIGHT
BEGIN:STANDARD
TZOFFSETFROM:-0400
TZOFFSETTO:-0500
TZNAME:EST
DTSTART:20261101T060000
END:STANDARD
BEGIN:DAYLIGHT
TZOFFSETFROM:-0500
TZOFFSETTO:-0400
TZNAME:EDT
DTSTART:20270314T070000
END:DAYLIGHT
BEGIN:STANDARD
TZOFFSETFROM:-0400
TZOFFSETTO:-0500
TZNAME:EST
DTSTART:20271107T060000
END:STANDARD
END:VTIMEZONE
BEGIN:VEVENT
DTSTART;TZID=America/Toronto:20260404T093000
DTEND;TZID=America/Toronto:20260404T110000
DTSTAMP:20260421T065846
CREATED:20260312T145312Z
LAST-MODIFIED:20260312T145312Z
UID:5263-1775295000-1775300400@approchefamilles.ca
SUMMARY:Chasse aux cocos pour les résident.e.s de Saint-Louis-de-Gonzague
DESCRIPTION:Chasse aux cocos de Saint-Louis-de-Gonzague\n\n\nLes inscriptions sont maintenant ouvertes !\n Inscription obligatoire avant le 20 mars\n\n\nPour inscrire votre famille\, envoyez un courriel à :\n cocosstlouis@gmail.com\n\n\nAvec les informations suivantes :\n• prénom et nom du ou des enfants\n• âge du ou des enfants\n• adresse de résidence\n• choix de l’heure de départ : 9 h 30 ou 11 h\n\n\n Un courriel de confirmation vous sera envoyé\n Une seule inscription par famille\n Activité réservée aux citoyens de Saint-Louis-de-Gonzague
URL:https://approchefamilles.ca/event/chasse-aux-cocos-pour-les-resident-e-s-de-saint-louis-de-gonzague/
LOCATION:Église Saint-Louis-de-Gonzague\, 146\, rue Principale\, Saint-Louis-de-Gonzague\, Québec\, J0S 1T0\, Canada
CATEGORIES:Pour les enfants,Saint-Louis-de-Gonzague
ATTACH;FMTTYPE=image/jpeg:https://approchefamilles.ca/wp-content/uploads/2026/03/641451765_1359817106187654_3028279263407248362_n.jpg
END:VEVENT
END:VCALENDAR