BEGIN:VCALENDAR
VERSION:2.0
PRODID:-//Approche Familles - ECPv6.15.20//NONSGML v1.0//EN
CALSCALE:GREGORIAN
METHOD:PUBLISH
X-ORIGINAL-URL:https://approchefamilles.ca
X-WR-CALDESC:Évènements pour Approche Familles
REFRESH-INTERVAL;VALUE=DURATION:PT1H
X-Robots-Tag:noindex
X-PUBLISHED-TTL:PT1H
BEGIN:VTIMEZONE
TZID:America/Toronto
BEGIN:DAYLIGHT
TZOFFSETFROM:-0500
TZOFFSETTO:-0400
TZNAME:EDT
DTSTART:20250309T070000
END:DAYLIGHT
BEGIN:STANDARD
TZOFFSETFROM:-0400
TZOFFSETTO:-0500
TZNAME:EST
DTSTART:20251102T060000
END:STANDARD
BEGIN:DAYLIGHT
TZOFFSETFROM:-0500
TZOFFSETTO:-0400
TZNAME:EDT
DTSTART:20260308T070000
END:DAYLIGHT
BEGIN:STANDARD
TZOFFSETFROM:-0400
TZOFFSETTO:-0500
TZNAME:EST
DTSTART:20261101T060000
END:STANDARD
BEGIN:DAYLIGHT
TZOFFSETFROM:-0500
TZOFFSETTO:-0400
TZNAME:EDT
DTSTART:20270314T070000
END:DAYLIGHT
BEGIN:STANDARD
TZOFFSETFROM:-0400
TZOFFSETTO:-0500
TZNAME:EST
DTSTART:20271107T060000
END:STANDARD
END:VTIMEZONE
BEGIN:VEVENT
DTSTART;TZID=America/Toronto:20260131T130000
DTEND;TZID=America/Toronto:20260131T160000
DTSTAMP:20260421T070027
CREATED:20260105T161727Z
LAST-MODIFIED:20260105T161727Z
UID:4988-1769864400-1769875200@approchefamilles.ca
SUMMARY:Fest'Hiver - Saint-Louis-de-Gonzague
DESCRIPTION: Fest’hiver – Réservez votre après-midi ! Sortez les tuques\, les mitaines et le sourire : Fest’hiver arrive !On vous donne rendez-vous le samedi 31 janvier\, de 13 h à 16 h\, au parc-école Omer-Séguin pour un après-midi hivernal festif et rassembleur.Que ce soit en famille\, entre amis ou juste pour prendre l’air et jaser\, une chose est sûre : ça vaut le détour.
URL:https://approchefamilles.ca/event/festhiver-saint-louis-de-gonzague-2/
LOCATION:Parc-école Omer-Séguin\, 39\, rue du Pont\, Saint-Louis-de-Gonzague\, Québec\, J0S 1T0\, Canada
CATEGORIES:Pour toute la famille,Saint-Louis-de-Gonzague
ATTACH;FMTTYPE=image/jpeg:https://approchefamilles.ca/wp-content/uploads/2026/01/599218278_1300473218788710_6539986141310709656_n.jpg
END:VEVENT
END:VCALENDAR