BEGIN:VCALENDAR
VERSION:2.0
PRODID:-//Approche Familles - ECPv6.15.20//NONSGML v1.0//EN
CALSCALE:GREGORIAN
METHOD:PUBLISH
X-ORIGINAL-URL:https://approchefamilles.ca
X-WR-CALDESC:Évènements pour Approche Familles
REFRESH-INTERVAL;VALUE=DURATION:PT1H
X-Robots-Tag:noindex
X-PUBLISHED-TTL:PT1H
BEGIN:VTIMEZONE
TZID:America/Toronto
BEGIN:DAYLIGHT
TZOFFSETFROM:-0500
TZOFFSETTO:-0400
TZNAME:EDT
DTSTART:20240310T070000
END:DAYLIGHT
BEGIN:STANDARD
TZOFFSETFROM:-0400
TZOFFSETTO:-0500
TZNAME:EST
DTSTART:20241103T060000
END:STANDARD
BEGIN:DAYLIGHT
TZOFFSETFROM:-0500
TZOFFSETTO:-0400
TZNAME:EDT
DTSTART:20250309T070000
END:DAYLIGHT
BEGIN:STANDARD
TZOFFSETFROM:-0400
TZOFFSETTO:-0500
TZNAME:EST
DTSTART:20251102T060000
END:STANDARD
BEGIN:DAYLIGHT
TZOFFSETFROM:-0500
TZOFFSETTO:-0400
TZNAME:EDT
DTSTART:20260308T070000
END:DAYLIGHT
BEGIN:STANDARD
TZOFFSETFROM:-0400
TZOFFSETTO:-0500
TZNAME:EST
DTSTART:20261101T060000
END:STANDARD
END:VTIMEZONE
BEGIN:VEVENT
DTSTART;TZID=America/Toronto:20251206T100000
DTEND;TZID=America/Toronto:20251207T160000
DTSTAMP:20260421T094101
CREATED:20251111T203308Z
LAST-MODIFIED:20251111T203308Z
UID:4714-1765015200-1765123200@approchefamilles.ca
SUMMARY:Marché de Noël de Saint-Louis-de-Gonzague
DESCRIPTION:
URL:https://approchefamilles.ca/event/marche-de-noel-de-saint-louis-de-gonzague/
LOCATION:Église Saint-Louis-de-Gonzague\, 146\, rue Principale\, Saint-Louis-de-Gonzague\, Québec\, J0S 1T0\, Canada
CATEGORIES:Marché,Saint-Louis-de-Gonzague
ATTACH;FMTTYPE=image/png:https://approchefamilles.ca/wp-content/uploads/2025/11/marche-noel-saint-louis-scaled.png
END:VEVENT
END:VCALENDAR