BEGIN:VCALENDAR
VERSION:2.0
PRODID:-//Approche Familles - ECPv6.15.20//NONSGML v1.0//EN
CALSCALE:GREGORIAN
METHOD:PUBLISH
X-WR-CALNAME:Approche Familles
X-ORIGINAL-URL:https://approchefamilles.ca
X-WR-CALDESC:Évènements pour Approche Familles
REFRESH-INTERVAL;VALUE=DURATION:PT1H
X-Robots-Tag:noindex
X-PUBLISHED-TTL:PT1H
BEGIN:VTIMEZONE
TZID:UTC
BEGIN:STANDARD
TZOFFSETFROM:+0000
TZOFFSETTO:+0000
TZNAME:UTC
DTSTART:20240101T000000
END:STANDARD
END:VTIMEZONE
BEGIN:VEVENT
DTSTART;TZID=UTC:20250524T100000
DTEND;TZID=UTC:20250524T123000
DTSTAMP:20260421T190951
CREATED:20250224T185025Z
LAST-MODIFIED:20250224T185025Z
UID:3554-1748080800-1748089800@approchefamilles.ca
SUMMARY:Ateliers cuisine père & fils
DESCRIPTION:𝘼𝙩𝙚𝙡𝙞𝙚𝙧𝙨 𝙙𝙚 𝙘𝙪𝙞𝙨𝙞𝙣𝙚 𝙥è𝙧𝙚 & 𝙛𝙞𝙡𝙨: 𝙨𝙚 𝙙é𝙗𝙧𝙤𝙪𝙞𝙡𝙡𝙚𝙧 𝙚𝙣 𝙘𝙪𝙞𝙨𝙞𝙣𝙚!\n\n\nCes ateliers offrent une occasion aux duos père-fils de découvrir les possibilités de faire de la cuisine avec des éléments de base\, simplement et avec créativité!\n\n\nHoraire:\nde 10h à 12h30 dans la cuisine de l’église\n\nSamedi 15 mars: Que faire avec très peu!\nSamedi 26 avril: Faire des sauces et des soupes!\nSamedi 24 mai: Biscuits\, muffins\, etc.\n\n\n\nCoût: 30$ par duo père-fils pour les 3 ateliers\nPlaces limitées à 8 duos.\nInscription: info@sldg.ca
URL:https://approchefamilles.ca/event/ateliers-cuisine-pere-fils-2/
LOCATION:Église Saint-Louis-de-Gonzague\, 146\, rue Principale\, Saint-Louis-de-Gonzague\, Québec\, J0S 1T0\, Canada
CATEGORIES:Ateliers parents-enfants,Saint-Louis-de-Gonzague
ATTACH;FMTTYPE=image/jpeg:https://approchefamilles.ca/wp-content/uploads/2025/02/Ateliers-cusine-pere-fils.jpg
END:VEVENT
END:VCALENDAR