BEGIN:VCALENDAR
VERSION:2.0
PRODID:-//Approche Familles - ECPv6.15.20//NONSGML v1.0//EN
CALSCALE:GREGORIAN
METHOD:PUBLISH
X-WR-CALNAME:Approche Familles
X-ORIGINAL-URL:https://approchefamilles.ca
X-WR-CALDESC:Évènements pour Approche Familles
REFRESH-INTERVAL;VALUE=DURATION:PT1H
X-Robots-Tag:noindex
X-PUBLISHED-TTL:PT1H
BEGIN:VTIMEZONE
TZID:UTC
BEGIN:STANDARD
TZOFFSETFROM:+0000
TZOFFSETTO:+0000
TZNAME:UTC
DTSTART:20240101T000000
END:STANDARD
END:VTIMEZONE
BEGIN:VEVENT
DTSTART;TZID=UTC:20250612T150000
DTEND;TZID=UTC:20250612T190000
DTSTAMP:20260421T161911
CREATED:20250530T185157Z
LAST-MODIFIED:20250530T185157Z
UID:3896-1749740400-1749754800@approchefamilles.ca
SUMMARY:BBQ des papas - Saint-Louis-de-Gonzague
DESCRIPTION:Le jeudi 12 juin\, c’est congé pour souper!Hotdogs et grillades sont au menu de cette superbe initiative citoyenne au profit de l’école Omer-Séguin!
URL:https://approchefamilles.ca/event/bbq-des-papas-saint-louis-de-gonzague/
LOCATION:Parc-école Omer-Séguin\, 39\, rue du Pont\, Saint-Louis-de-Gonzague\, Québec\, J0S 1T0\, Canada
CATEGORIES:Pour toute la famille,Saint-Louis-de-Gonzague
ATTACH;FMTTYPE=image/jpeg:https://approchefamilles.ca/wp-content/uploads/2025/05/bbq-papas.jpg
END:VEVENT
BEGIN:VEVENT
DTSTART;TZID=UTC:20250614T090000
DTEND;TZID=UTC:20250614T140000
DTSTAMP:20260421T161911
CREATED:20250507T220712Z
LAST-MODIFIED:20250507T220712Z
UID:3868-1749891600-1749909600@approchefamilles.ca
SUMMARY:Défi sportif - Les superhéros de Saint-Louis-de-Gonzague
DESCRIPTION:Tu rêves de porter ton slip par-dessus tes pantalons sans jugement? C’est TA CHANCE! Inscris-toi au Défi sportif des superhéros!
URL:https://approchefamilles.ca/event/defi-sportif-les-superheros-de-saint-louis-de-gonzague-2/
LOCATION:Québec
CATEGORIES:Pour toute la famille,Saint-Louis-de-Gonzague
ATTACH;FMTTYPE=image/jpeg:https://approchefamilles.ca/wp-content/uploads/2025/05/defis-superheros.jpg
END:VEVENT
END:VCALENDAR