BEGIN:VCALENDAR
VERSION:2.0
PRODID:-//Approche Familles - ECPv6.15.19//NONSGML v1.0//EN
CALSCALE:GREGORIAN
METHOD:PUBLISH
X-WR-CALNAME:Approche Familles
X-ORIGINAL-URL:https://approchefamilles.ca
X-WR-CALDESC:Évènements pour Approche Familles
REFRESH-INTERVAL;VALUE=DURATION:PT1H
X-Robots-Tag:noindex
X-PUBLISHED-TTL:PT1H
BEGIN:VTIMEZONE
TZID:America/Toronto
BEGIN:DAYLIGHT
TZOFFSETFROM:-0500
TZOFFSETTO:-0400
TZNAME:EDT
DTSTART:20250309T070000
END:DAYLIGHT
BEGIN:STANDARD
TZOFFSETFROM:-0400
TZOFFSETTO:-0500
TZNAME:EST
DTSTART:20251102T060000
END:STANDARD
BEGIN:DAYLIGHT
TZOFFSETFROM:-0500
TZOFFSETTO:-0400
TZNAME:EDT
DTSTART:20260308T070000
END:DAYLIGHT
BEGIN:STANDARD
TZOFFSETFROM:-0400
TZOFFSETTO:-0500
TZNAME:EST
DTSTART:20261101T060000
END:STANDARD
BEGIN:DAYLIGHT
TZOFFSETFROM:-0500
TZOFFSETTO:-0400
TZNAME:EDT
DTSTART:20270314T070000
END:DAYLIGHT
BEGIN:STANDARD
TZOFFSETFROM:-0400
TZOFFSETTO:-0500
TZNAME:EST
DTSTART:20271107T060000
END:STANDARD
END:VTIMEZONE
BEGIN:VEVENT
DTSTART;TZID=America/Toronto:20260429T120000
DTEND;TZID=America/Toronto:20260429T170000
DTSTAMP:20260419T131520
CREATED:20260408T151850Z
LAST-MODIFIED:20260408T151850Z
UID:5479-1777464000-1777482000@approchefamilles.ca
SUMMARY:Tissage d'arts - PRAQ
DESCRIPTION:TISSAGES D’ART\n\n\nPRAQ est fier d’annoncer le départ d’un nouveau projet créatif et novateur où participation citoyenne et art urbain se rencontrent! Au cours des prochains mois\, une grande œuvre collective sera créée par notre collectivité et puis installée aux yeux de tous. Objets divers et matériel d’art seront mis à disposition des participants pour laisser libre cours à leur créativité. Artistes locaux seront invités à partager leur créativité et impliquer le public à créer avec eux.\n\n\nCela pique votre curiosité n’est-ce pas?\n\n\nPour faire partie de ce projet grandiose\, rendez-vous à La Factrie\, Espace culturel et participez aux jets créatifs.\n\n\nD’autres jets créatifs et événements seront annoncés au courant des prochaines semaines. Pour ne rien manquer\, écrivez-nous par Messenger ou à audree@praq.org\n\n\nNous remercions la Ville de Salaberry-de-Valleyfield pour leur collaboration!
URL:https://approchefamilles.ca/event/tissage-darts-praq/
LOCATION:La Factrie\, café culturel\, 17\, rue du Marché\, Salaberry-de-Valleyfield\, Québec\, Canada
CATEGORIES:Pour toute la famille,Salaberry-de-Valleyfield
ATTACH;FMTTYPE=image/jpeg:https://approchefamilles.ca/wp-content/uploads/2026/04/667166945_1271857528423777_2068541274287916071_n.jpg
ORGANIZER;CN="PRAQ":MAILTO:info@praq.org
END:VEVENT
END:VCALENDAR