BEGIN:VCALENDAR
VERSION:2.0
PRODID:-//Approche Familles - ECPv6.15.19//NONSGML v1.0//EN
CALSCALE:GREGORIAN
METHOD:PUBLISH
X-WR-CALNAME:Approche Familles
X-ORIGINAL-URL:https://approchefamilles.ca
X-WR-CALDESC:Évènements pour Approche Familles
REFRESH-INTERVAL;VALUE=DURATION:PT1H
X-Robots-Tag:noindex
X-PUBLISHED-TTL:PT1H
BEGIN:VTIMEZONE
TZID:America/Toronto
BEGIN:DAYLIGHT
TZOFFSETFROM:-0500
TZOFFSETTO:-0400
TZNAME:EDT
DTSTART:20240310T070000
END:DAYLIGHT
BEGIN:STANDARD
TZOFFSETFROM:-0400
TZOFFSETTO:-0500
TZNAME:EST
DTSTART:20241103T060000
END:STANDARD
BEGIN:DAYLIGHT
TZOFFSETFROM:-0500
TZOFFSETTO:-0400
TZNAME:EDT
DTSTART:20250309T070000
END:DAYLIGHT
BEGIN:STANDARD
TZOFFSETFROM:-0400
TZOFFSETTO:-0500
TZNAME:EST
DTSTART:20251102T060000
END:STANDARD
BEGIN:DAYLIGHT
TZOFFSETFROM:-0500
TZOFFSETTO:-0400
TZNAME:EDT
DTSTART:20260308T070000
END:DAYLIGHT
BEGIN:STANDARD
TZOFFSETFROM:-0400
TZOFFSETTO:-0500
TZNAME:EST
DTSTART:20261101T060000
END:STANDARD
END:VTIMEZONE
BEGIN:VEVENT
DTSTART;TZID=America/Toronto:20251206T093000
DTEND;TZID=America/Toronto:20251206T150000
DTSTAMP:20260420T014823
CREATED:20251201T163307Z
LAST-MODIFIED:20251201T163307Z
UID:4756-1765013400-1765033200@approchefamilles.ca
SUMMARY:Guignolée Saint-Urbain-Premier
DESCRIPTION:COMMENT DONNER ?\nEn remettant vos dons aux pompiers ou aux bénévoles qui passeront de porte en porte le samedi 6 décembre à compter de 9 h 30\nIMPORTANT : déposez les denrées dans des sacs et laissez-les sur votre balcon. Les dons en argent pourront être remis directement aux pompiers et aux bénévoles.\nEn déposant vos denrées jusqu’au 12 décembre dans des sacs\, au Dépanneur St-Urbain et au bureau de poste\nEn tout temps\, en ligne : Appelez le bénévole de la Guignolée au 514 927-2030\npour savoir comment procéder\nEn tout temps\, par la poste : Libellez le chèque et l’enveloppe au Comité d’entraide de la Guignolée et postez le tout à 204\, rue Principale\, Saint-Urbain-Premier (Québec) J0S 1Y0\n\n\nQUOI DONNER ?\nDenrées non périssables – voici quelques idées : pâtes alimentaires\, conserves (fruits\, légumes\, tomates en dés\, pâte et sauce tomate)\, biscuits\, noix\, fruits séchés (raisins secs\, dattes\, canneberges)\, compotes de fruits\, café\, thé\, tisanes\, jus de légumes et de fruits\, beurre d’arachide\, gruau\, confitures\, céréales\, barres tendres\, riz…\n\n\n Attention ! Tous les produits comestibles doivent être dans leur emballage scellé original.\n️Important : Vérifiez bien la date de péremption sur tous les produits comestibles. Ces derniers seront triés et toute denrée périmée sera jetée aux ordures.\nDons en argent : des denrées périssables seront achetées avec vos dons en argent\, alors n’hésitez pas à donner !\n\n\nQUOI NE PAS DONNER ?\nPeluches\, vêtements\, denrées périssables\, contenants en verre.
URL:https://approchefamilles.ca/event/guignolee-saint-urbain-premier/
CATEGORIES:Guignolée,Saint-Urbain-Premier
ATTACH;FMTTYPE=image/jpeg:https://approchefamilles.ca/wp-content/uploads/2025/12/guignolee-st-urbain.jpg
END:VEVENT
BEGIN:VEVENT
DTSTART;TZID=America/Toronto:20251206T100000
DTEND;TZID=America/Toronto:20251206T150000
DTSTAMP:20260420T014823
CREATED:20251201T162340Z
LAST-MODIFIED:20251201T162340Z
UID:4753-1765015200-1765033200@approchefamilles.ca
SUMMARY:Chute à cadeaux - Beauharnois
DESCRIPTION:MARCHÉ DE NOËL DES LUTINS | Chute à cadeaux \n\n\nEn partenariat avec Le Coin du Partage et La Halte Familiale de Beauharnois\, une chute à cadeaux sera installée au Marché de Noël (Place du marché)\, le samedi 6 décembre\, de 10 h à 15 h.\n\n\nCette chute à cadeaux a pour objectif de récolter des jeux et jouets usagés en bon état\, afin de leur donner une seconde vie. On vous invite à être généreux et à déposer vos dons à l’endroit identifié sur le site de l’événement. \n\n\nPour tout savoir sur nos festivités de Noël\, consultez le ville.beauharnois.qc.ca/noel2025
URL:https://approchefamilles.ca/event/chute-a-cadeaux-beauharnois/
LOCATION:Place du Marché\, Beauharnois\, Centre-ville et Caisse populaire Desjardins Beauharnois\, Beauharnois\, Québec\, Canada
CATEGORIES:Beauharnois,Guignolée
ATTACH;FMTTYPE=image/jpeg:https://approchefamilles.ca/wp-content/uploads/2025/12/chute-a-cadeaux-beauharnois.jpg
END:VEVENT
END:VCALENDAR