BEGIN:VCALENDAR
VERSION:2.0
PRODID:-//Approche Familles - ECPv6.15.19//NONSGML v1.0//EN
CALSCALE:GREGORIAN
METHOD:PUBLISH
X-WR-CALNAME:Approche Familles
X-ORIGINAL-URL:https://approchefamilles.ca
X-WR-CALDESC:Évènements pour Approche Familles
REFRESH-INTERVAL;VALUE=DURATION:PT1H
X-Robots-Tag:noindex
X-PUBLISHED-TTL:PT1H
BEGIN:VTIMEZONE
TZID:America/Toronto
BEGIN:DAYLIGHT
TZOFFSETFROM:-0500
TZOFFSETTO:-0400
TZNAME:EDT
DTSTART:20250309T070000
END:DAYLIGHT
BEGIN:STANDARD
TZOFFSETFROM:-0400
TZOFFSETTO:-0500
TZNAME:EST
DTSTART:20251102T060000
END:STANDARD
BEGIN:DAYLIGHT
TZOFFSETFROM:-0500
TZOFFSETTO:-0400
TZNAME:EDT
DTSTART:20260308T070000
END:DAYLIGHT
BEGIN:STANDARD
TZOFFSETFROM:-0400
TZOFFSETTO:-0500
TZNAME:EST
DTSTART:20261101T060000
END:STANDARD
BEGIN:DAYLIGHT
TZOFFSETFROM:-0500
TZOFFSETTO:-0400
TZNAME:EDT
DTSTART:20270314T070000
END:DAYLIGHT
BEGIN:STANDARD
TZOFFSETFROM:-0400
TZOFFSETTO:-0500
TZNAME:EST
DTSTART:20271107T060000
END:STANDARD
END:VTIMEZONE
BEGIN:VEVENT
DTSTART;TZID=America/Toronto:20260420T130000
DTEND;TZID=America/Toronto:20260420T153000
DTSTAMP:20260419T113109
CREATED:20251204T200307Z
LAST-MODIFIED:20251204T200307Z
UID:4803-1776690000-1776699000@approchefamilles.ca
SUMMARY:Purées gourmandes - ABC de la famille
DESCRIPTION:Du 19 janvier au 23 février 2026\nDu 9 mars au 20 avril 2026\nPour les parents de bébés qui ont entre 4 et 6 mois et qui veulent apprendre à préparer toutes sortes de purées. \nDans une ambiance chaleureuse\, on cuisine et on s’informe sur les débuts de l’alimentation. \n*La halte-garderie est offerte aux enfants de 0-5 ans. \nCoût : 5$ par atelier. Vous ramènerez plein de belles réserves pour la maison ! \nPour vous inscrire\, vous devez obligatoirement devenir membre de l’ABC de la famille\, il vous en coutera 5 $ annuellement\, renouvelable à partir de juin l’année suivante.\nEt sur demande\, le transport est gratuit.
URL:https://approchefamilles.ca/event/purees-gourmandes-abc-de-la-famille-45/
LOCATION:ABC de la Famille\, 20\, rue St-Pierre\, Salaberry-de-Valleyfield\, Québec\, J6T 1E7\, Canada
CATEGORIES:Cuisines collectives et ateliers cuisine,Salaberry-de-Valleyfield
ORGANIZER;CN="ABC de la famille":MAILTO:info@abcfamille.ca
END:VEVENT
BEGIN:VEVENT
DTSTART;TZID=America/Toronto:20260421T090000
DTEND;TZID=America/Toronto:20260421T113000
DTSTAMP:20260419T113109
CREATED:20260326T135555Z
LAST-MODIFIED:20260326T135614Z
UID:5346-1776762000-1776771000@approchefamilles.ca
SUMMARY:Cuisines du monde - ABC de la famille
DESCRIPTION:Cuisines du monde \nUn atelier culinaire axé sur des mets variés provenant de partout dans le monde! Pour trouver des nouvelles recettes familiales à bons prix\, cuisiner dans le plaisir et apprendre des techniques qui serviront au quotidien. \nDu 21 avril au 9 juin 2026 \n*Pour les parents d’enfants 0-12 ans \n*La halte-garderie est offerte aux enfants de 0-5 ans. \n 
URL:https://approchefamilles.ca/event/cuisines-du-monde-abc-de-la-famille/
LOCATION:ABC de la Famille\, 20\, rue St-Pierre\, Salaberry-de-Valleyfield\, Québec\, J6T 1E7\, Canada
CATEGORIES:Cuisines collectives et ateliers cuisine,Salaberry-de-Valleyfield
ORGANIZER;CN="ABC de la famille":MAILTO:info@abcfamille.ca
END:VEVENT
BEGIN:VEVENT
DTSTART;TZID=America/Toronto:20260422T090000
DTEND;TZID=America/Toronto:20260422T110000
DTSTAMP:20260419T113109
CREATED:20260326T174634Z
LAST-MODIFIED:20260326T174634Z
UID:5376-1776848400-1776855600@approchefamilles.ca
SUMMARY:marmite des mamans - ABC de la famille
DESCRIPTION:La marmite des mamans – ateliers culinaires prénataux\nVous êtes enceinte ? Vous aimeriez cuisiner davantage\, utiliser de bons aliments\, trouver des recettes intéressantes ? La marmite des mamans est pour vous ! \nLes besoins alimentaires changent pendant la grossesse. Les recettes proposées lors de cet atelier seront donc orientées en ce sens\, pour viser autant le bien-être de la maman que celui du bébé à naître. \n8 mercredis de 9h à 11h\, du 22 avril au 10 juin 2026 \n*La halte-garderie est offerte aux enfants de 0-5 ans. \nCoût : 7$ par personne\, par atelier (donc\, s’il y a deux membres dans la famille\, cela revient à 14$). Vous repartirez avec de généreuses portions des recettes cuisinées !
URL:https://approchefamilles.ca/event/marmite-des-mamans-abc-de-la-famille-20/
LOCATION:ABC de la Famille\, 20\, rue St-Pierre\, Salaberry-de-Valleyfield\, Québec\, J6T 1E7\, Canada
CATEGORIES:Cuisines collectives et ateliers cuisine,Salaberry-de-Valleyfield
ORGANIZER;CN="ABC de la famille":MAILTO:info@abcfamille.ca
END:VEVENT
BEGIN:VEVENT
DTSTART;TZID=America/Toronto:20260422T090000
DTEND;TZID=America/Toronto:20260422T130000
DTSTAMP:20260419T113109
CREATED:20260316T180020Z
LAST-MODIFIED:20260316T180020Z
UID:5296-1776848400-1776862800@approchefamilles.ca
SUMMARY:Cuisines collectives - Actions Familles
DESCRIPTION:
URL:https://approchefamilles.ca/event/cuisines-collectives-actions-familles-21/
LOCATION:Actions Familles\, 122\, Saint-Joseph\, Sainte-Martine\, Québec\, J0S 1V0\, Canada
CATEGORIES:Cuisines collectives et ateliers cuisine,Sainte-Martine
ATTACH;FMTTYPE=image/jpeg:https://approchefamilles.ca/wp-content/uploads/2026/03/CUISINES-COLLECTIVES.jpg
ORGANIZER;CN="Actions Familles":MAILTO:info@actionsfamilles.org
END:VEVENT
BEGIN:VEVENT
DTSTART;TZID=America/Toronto:20260422T090000
DTEND;TZID=America/Toronto:20260422T130000
DTSTAMP:20260419T113109
CREATED:20260408T151217Z
LAST-MODIFIED:20260408T151217Z
UID:5469-1776848400-1776862800@approchefamilles.ca
SUMMARY:Cuisines collectives - Actions Familles
DESCRIPTION:
URL:https://approchefamilles.ca/event/cuisines-collectives-actions-familles-24/
LOCATION:Actions Familles\, 122\, Saint-Joseph\, Sainte-Martine\, Québec\, J0S 1V0\, Canada
CATEGORIES:Cuisines collectives et ateliers cuisine,Salaberry-de-Valleyfield
ATTACH;FMTTYPE=image/jpeg:https://approchefamilles.ca/wp-content/uploads/2026/04/cuisine-collectives.jpg
ORGANIZER;CN="Actions Familles":MAILTO:info@actionsfamilles.org
END:VEVENT
BEGIN:VEVENT
DTSTART;TZID=America/Toronto:20260423T090000
DTEND;TZID=America/Toronto:20260423T130000
DTSTAMP:20260419T113109
CREATED:20251209T193504Z
LAST-MODIFIED:20251209T193504Z
UID:4941-1776934800-1776949200@approchefamilles.ca
SUMMARY:Cuisines collectives - ABC de la famille
DESCRIPTION:Cuisines collectives \nUn classique des ateliers culinaires et toujours aussi populaire ! Pour trouver des nouvelles recettes familiales à bons prix\, cuisiner dans le plaisir et apprendre des techniques qui serviront au quotidien. \n*Pour les parents d’enfants 0-12 ans \nIl y aura deux groupes qui s’alterneront 1 semaine sur 2 les jeudis de 9h à 13h : \n1 – du 29 janvier au 7 mai 2026 \n2 – du 5 février au 14 mai 2026 \n*La halte-garderie est offerte aux enfants de 0-5 ans. \nCoût : 7$ par personne\, par atelier (par exemple\, pour une famille de 4\, cela revient à 28$ pour 4 recettes. Une aubaine !)
URL:https://approchefamilles.ca/event/cuisines-collectives-abc-de-la-famille-93/
LOCATION:ABC de la Famille\, 20\, rue St-Pierre\, Salaberry-de-Valleyfield\, Québec\, J6T 1E7\, Canada
CATEGORIES:Cuisines collectives et ateliers cuisine,Salaberry-de-Valleyfield
ORGANIZER;CN="ABC de la famille":MAILTO:info@abcfamille.ca
END:VEVENT
BEGIN:VEVENT
DTSTART;TZID=America/Toronto:20260423T090000
DTEND;TZID=America/Toronto:20260423T130000
DTSTAMP:20260419T113109
CREATED:20251209T193548Z
LAST-MODIFIED:20251209T193548Z
UID:4943-1776934800-1776949200@approchefamilles.ca
SUMMARY:Cuisines collectives - ABC de la famille
DESCRIPTION:Cuisines collectives \nUn classique des ateliers culinaires et toujours aussi populaire ! Pour trouver des nouvelles recettes familiales à bons prix\, cuisiner dans le plaisir et apprendre des techniques qui serviront au quotidien. \n*Pour les parents d’enfants 0-12 ans \nIl y aura deux groupes qui s’alterneront 1 semaine sur 2 les jeudis de 9h à 13h : \n1 – du 29 janvier au 7 mai 2026 \n2 – du 5 février au 14 mai 2026 \n*La halte-garderie est offerte aux enfants de 0-5 ans. \nCoût : 7$ par personne\, par atelier (par exemple\, pour une famille de 4\, cela revient à 28$ pour 4 recettes. Une aubaine !)
URL:https://approchefamilles.ca/event/cuisines-collectives-abc-de-la-famille-94/
LOCATION:ABC de la Famille\, 20\, rue St-Pierre\, Salaberry-de-Valleyfield\, Québec\, J6T 1E7\, Canada
CATEGORIES:Cuisines collectives et ateliers cuisine,Salaberry-de-Valleyfield
ORGANIZER;CN="ABC de la famille":MAILTO:info@abcfamille.ca
END:VEVENT
BEGIN:VEVENT
DTSTART;TZID=America/Toronto:20260427T130000
DTEND;TZID=America/Toronto:20260427T150000
DTSTAMP:20260419T113109
CREATED:20260326T132742Z
LAST-MODIFIED:20260326T132742Z
UID:5318-1777294800-1777302000@approchefamilles.ca
SUMMARY:Purées gourmandes - ABC de la famille
DESCRIPTION:Du 27 avril au 8 juin 2026\nPour les parents de bébés qui ont entre 4 et 6 mois et qui veulent apprendre à préparer toutes sortes de purées. \nDans une ambiance chaleureuse\, on cuisine et on s’informe sur les débuts de l’alimentation. \n*La halte-garderie est offerte aux enfants de 0-5 ans. \nCoût : 5$ par atelier. Vous ramènerez plein de belles réserves pour la maison ! \nPour vous inscrire\, vous devez obligatoirement devenir membre de l’ABC de la famille\, il vous en coutera 5 $ annuellement\, renouvelable à partir de juin l’année suivante.\nEt sur demande\, le transport est gratuit.
URL:https://approchefamilles.ca/event/purees-gourmandes-abc-de-la-famille-46/
LOCATION:ABC de la Famille\, 20\, rue St-Pierre\, Salaberry-de-Valleyfield\, Québec\, J6T 1E7\, Canada
CATEGORIES:Cuisines collectives et ateliers cuisine,Salaberry-de-Valleyfield
ORGANIZER;CN="ABC de la famille":MAILTO:info@abcfamille.ca
END:VEVENT
BEGIN:VEVENT
DTSTART;TZID=America/Toronto:20260428T090000
DTEND;TZID=America/Toronto:20260428T113000
DTSTAMP:20260419T113109
CREATED:20260326T135712Z
LAST-MODIFIED:20260326T135712Z
UID:5348-1777366800-1777375800@approchefamilles.ca
SUMMARY:Cuisines du monde - ABC de la famille
DESCRIPTION:Cuisines du monde \nUn atelier culinaire axé sur des mets variés provenant de partout dans le monde! Pour trouver des nouvelles recettes familiales à bons prix\, cuisiner dans le plaisir et apprendre des techniques qui serviront au quotidien. \nDu 21 avril au 9 juin 2026 \n*Pour les parents d’enfants 0-12 ans \n*La halte-garderie est offerte aux enfants de 0-5 ans.
URL:https://approchefamilles.ca/event/cuisines-du-monde-abc-de-la-famille-2/
LOCATION:ABC de la Famille\, 20\, rue St-Pierre\, Salaberry-de-Valleyfield\, Québec\, J6T 1E7\, Canada
CATEGORIES:Cuisines collectives et ateliers cuisine,Salaberry-de-Valleyfield
ORGANIZER;CN="ABC de la famille":MAILTO:info@abcfamille.ca
END:VEVENT
BEGIN:VEVENT
DTSTART;TZID=America/Toronto:20260429T090000
DTEND;TZID=America/Toronto:20260429T110000
DTSTAMP:20260419T113109
CREATED:20260326T174759Z
LAST-MODIFIED:20260326T174759Z
UID:5378-1777453200-1777460400@approchefamilles.ca
SUMMARY:Marmite des mamans - ABC de la famille
DESCRIPTION:La marmite des mamans – ateliers culinaires prénataux\nVous êtes enceinte ? Vous aimeriez cuisiner davantage\, utiliser de bons aliments\, trouver des recettes intéressantes ? La marmite des mamans est pour vous ! \nLes besoins alimentaires changent pendant la grossesse. Les recettes proposées lors de cet atelier seront donc orientées en ce sens\, pour viser autant le bien-être de la maman que celui du bébé à naître. \n8 mercredis de 9h à 11h\, du 22 avril au 10 juin 2026 \n*La halte-garderie est offerte aux enfants de 0-5 ans. \nCoût : 7$ par personne\, par atelier (donc\, s’il y a deux membres dans la famille\, cela revient à 14$). Vous repartirez avec de généreuses portions des recettes cuisinées !
URL:https://approchefamilles.ca/event/marmite-des-mamans-abc-de-la-famille-21/
LOCATION:ABC de la Famille\, 20\, rue St-Pierre\, Salaberry-de-Valleyfield\, Québec\, J6T 1E7\, Canada
CATEGORIES:Cuisines collectives et ateliers cuisine,Salaberry-de-Valleyfield
ORGANIZER;CN="ABC de la famille":MAILTO:info@abcfamille.ca
END:VEVENT
BEGIN:VEVENT
DTSTART;TZID=America/Toronto:20260429T090000
DTEND;TZID=America/Toronto:20260429T130000
DTSTAMP:20260419T113109
CREATED:20260316T180106Z
LAST-MODIFIED:20260316T180106Z
UID:5298-1777453200-1777467600@approchefamilles.ca
SUMMARY:Cuisines collectives - Actions Familles
DESCRIPTION:
URL:https://approchefamilles.ca/event/cuisines-collectives-actions-familles-22/
LOCATION:Actions Familles\, 122\, Saint-Joseph\, Sainte-Martine\, Québec\, J0S 1V0\, Canada
CATEGORIES:Cuisines collectives et ateliers cuisine,Sainte-Martine
ATTACH;FMTTYPE=image/jpeg:https://approchefamilles.ca/wp-content/uploads/2026/03/CUISINES-COLLECTIVES.jpg
ORGANIZER;CN="Actions Familles":MAILTO:info@actionsfamilles.org
END:VEVENT
BEGIN:VEVENT
DTSTART;TZID=America/Toronto:20260429T090000
DTEND;TZID=America/Toronto:20260429T130000
DTSTAMP:20260419T113109
CREATED:20260408T151307Z
LAST-MODIFIED:20260408T151307Z
UID:5471-1777453200-1777467600@approchefamilles.ca
SUMMARY:Cuisines collectives - Actions Familles
DESCRIPTION:
URL:https://approchefamilles.ca/event/cuisines-collectives-actions-familles-25/
LOCATION:Actions Familles\, 122\, Saint-Joseph\, Sainte-Martine\, Québec\, J0S 1V0\, Canada
CATEGORIES:Cuisines collectives et ateliers cuisine,Sainte-Martine
ATTACH;FMTTYPE=image/jpeg:https://approchefamilles.ca/wp-content/uploads/2026/04/cuisine-collectives.jpg
ORGANIZER;CN="Actions Familles":MAILTO:info@actionsfamilles.org
END:VEVENT
BEGIN:VEVENT
DTSTART;TZID=America/Toronto:20260430T090000
DTEND;TZID=America/Toronto:20260430T130000
DTSTAMP:20260419T113109
CREATED:20251209T193639Z
LAST-MODIFIED:20251209T193639Z
UID:4945-1777539600-1777554000@approchefamilles.ca
SUMMARY:Cuisines collectives - ABC de la famille
DESCRIPTION:Cuisines collectives \nUn classique des ateliers culinaires et toujours aussi populaire ! Pour trouver des nouvelles recettes familiales à bons prix\, cuisiner dans le plaisir et apprendre des techniques qui serviront au quotidien. \n*Pour les parents d’enfants 0-12 ans \nIl y aura deux groupes qui s’alterneront 1 semaine sur 2 les jeudis de 9h à 13h : \n1 – du 29 janvier au 7 mai 2026 \n2 – du 5 février au 14 mai 2026 \n*La halte-garderie est offerte aux enfants de 0-5 ans. \nCoût : 7$ par personne\, par atelier (par exemple\, pour une famille de 4\, cela revient à 28$ pour 4 recettes. Une aubaine !)
URL:https://approchefamilles.ca/event/cuisines-collectives-abc-de-la-famille-95/
LOCATION:ABC de la Famille\, 20\, rue St-Pierre\, Salaberry-de-Valleyfield\, Québec\, J6T 1E7\, Canada
CATEGORIES:Cuisines collectives et ateliers cuisine,Salaberry-de-Valleyfield
ORGANIZER;CN="ABC de la famille":MAILTO:info@abcfamille.ca
END:VEVENT
END:VCALENDAR