BEGIN:VCALENDAR
VERSION:2.0
PRODID:-//Approche Familles - ECPv6.15.19//NONSGML v1.0//EN
CALSCALE:GREGORIAN
METHOD:PUBLISH
X-ORIGINAL-URL:https://approchefamilles.ca
X-WR-CALDESC:Évènements pour Approche Familles
REFRESH-INTERVAL;VALUE=DURATION:PT1H
X-Robots-Tag:noindex
X-PUBLISHED-TTL:PT1H
BEGIN:VTIMEZONE
TZID:America/Toronto
BEGIN:DAYLIGHT
TZOFFSETFROM:-0500
TZOFFSETTO:-0400
TZNAME:EDT
DTSTART:20250309T070000
END:DAYLIGHT
BEGIN:STANDARD
TZOFFSETFROM:-0400
TZOFFSETTO:-0500
TZNAME:EST
DTSTART:20251102T060000
END:STANDARD
BEGIN:DAYLIGHT
TZOFFSETFROM:-0500
TZOFFSETTO:-0400
TZNAME:EDT
DTSTART:20260308T070000
END:DAYLIGHT
BEGIN:STANDARD
TZOFFSETFROM:-0400
TZOFFSETTO:-0500
TZNAME:EST
DTSTART:20261101T060000
END:STANDARD
BEGIN:DAYLIGHT
TZOFFSETFROM:-0500
TZOFFSETTO:-0400
TZNAME:EDT
DTSTART:20270314T070000
END:DAYLIGHT
BEGIN:STANDARD
TZOFFSETFROM:-0400
TZOFFSETTO:-0500
TZNAME:EST
DTSTART:20271107T060000
END:STANDARD
END:VTIMEZONE
BEGIN:VEVENT
DTSTART;TZID=America/Toronto:20260416T090000
DTEND;TZID=America/Toronto:20260416T110000
DTSTAMP:20260419T131713
CREATED:20260326T175615Z
LAST-MODIFIED:20260326T175615Z
UID:5390-1776330000-1776337200@approchefamilles.ca
SUMMARY:Caméléons colorés - ABC de la famille
DESCRIPTION:Du 16 avril au 11 juin 2026 \nPour participer aux ateliers\, vous devez obligatoirement devenir membre de l’ABC de la Famille. Pour devenir membre\, il suffit de se présenter à l’organisme et de payer 5 $ annuellement. \nCes ateliers\, selon le groupe d’âge de l’enfant\, offrent un moment privilégié afin de favoriser un lien d’attachement sécurisant entre le parent et son enfant. À travers les rencontres\, le parent reçoit des outils et des stratégies à mettre en place à la maison et il est soutenu par une intervenante dans leurs applications. En plus de participer à des activités interactives avec son enfant\, le parent a l’opportunité de se créer un réseau avec les autres parents participants et l’enfant socialise avec d’autres enfants de son âge. \nPlus précisément\, les ateliers favorisent le développement optimal de l’enfant en : \n\naméliorant les compétences parentales et les relations parent-enfant ;\ndiminuant l’isolement social ;\naméliorant l’estime de soi chez l’enfant ;\noffrant des activités axées sur l’enfant.\n\n  \nINSCRIPTION PAR TÉLÉPHONE : 450 377-4380
URL:https://approchefamilles.ca/event/cameleons-colores-abc-de-la-famille-9/
LOCATION:ABC de la Famille\, 20\, rue St-Pierre\, Salaberry-de-Valleyfield\, Québec\, J6T 1E7\, Canada
CATEGORIES:Ateliers parents-enfants,Salaberry-de-Valleyfield
ORGANIZER;CN="ABC de la famille":MAILTO:info@abcfamille.ca
END:VEVENT
END:VCALENDAR