BEGIN:VCALENDAR
VERSION:2.0
PRODID:-//Approche Familles - ECPv6.15.19//NONSGML v1.0//EN
CALSCALE:GREGORIAN
METHOD:PUBLISH
X-WR-CALNAME:Approche Familles
X-ORIGINAL-URL:https://approchefamilles.ca
X-WR-CALDESC:Évènements pour Approche Familles
REFRESH-INTERVAL;VALUE=DURATION:PT1H
X-Robots-Tag:noindex
X-PUBLISHED-TTL:PT1H
BEGIN:VTIMEZONE
TZID:America/Toronto
BEGIN:DAYLIGHT
TZOFFSETFROM:-0500
TZOFFSETTO:-0400
TZNAME:EDT
DTSTART:20250309T070000
END:DAYLIGHT
BEGIN:STANDARD
TZOFFSETFROM:-0400
TZOFFSETTO:-0500
TZNAME:EST
DTSTART:20251102T060000
END:STANDARD
BEGIN:DAYLIGHT
TZOFFSETFROM:-0500
TZOFFSETTO:-0400
TZNAME:EDT
DTSTART:20260308T070000
END:DAYLIGHT
BEGIN:STANDARD
TZOFFSETFROM:-0400
TZOFFSETTO:-0500
TZNAME:EST
DTSTART:20261101T060000
END:STANDARD
BEGIN:DAYLIGHT
TZOFFSETFROM:-0500
TZOFFSETTO:-0400
TZNAME:EDT
DTSTART:20270314T070000
END:DAYLIGHT
BEGIN:STANDARD
TZOFFSETFROM:-0400
TZOFFSETTO:-0500
TZNAME:EST
DTSTART:20271107T060000
END:STANDARD
END:VTIMEZONE
BEGIN:VEVENT
DTSTART;TZID=America/Toronto:20260325T130000
DTEND;TZID=America/Toronto:20260325T153000
DTSTAMP:20260419T141629
CREATED:20251209T182151Z
LAST-MODIFIED:20251209T182151Z
UID:4898-1774443600-1774452600@approchefamilles.ca
SUMMARY:Brindami - ABC de la famille
DESCRIPTION:ATELIERS 3-5 ANS BRINDAMI\n8 ateliers parent – enfants\nSur les habiletés sociales\n\n\nCes ateliers sont basés sur le programme Brindami développé par le Centre de Psychoéducation du Québec et qui est implanté dans plusieurs milieux de garde de la région. Les diverses thématiques explorées visent le développement des habiletés sociales de base\, de communication et de l’expression des émotions\, de l’autocontrôle et de la résolution de conflit. Le parent et son enfant participeront à des activités de stimulation des habiletés sociales et affectives présentant des thèmes tels que les émotions\, le partage\, la prise de contact avec les autres\, etc.\n\n\n\nLes thématiques abordées :\n\n\n\n\nsaluer et s’approcher doucement ;\naccepter ou refuser le contact avec les autres ;\nfaire une demande pour obtenir un jouet et une place ;\ncomprendre et gérer ses émotions ;\nattendre son tour ;\nécouter l’autre ;\nralentir ses élans moteurs ;\nrespirer pour se calmer ;\nfaire face à la tristesse et à la colère ;\ndonner par choix et s’initier au troc.
URL:https://approchefamilles.ca/event/brindami-abc-de-la-famille-16/
LOCATION:ABC de la Famille\, 20\, rue St-Pierre\, Salaberry-de-Valleyfield\, Québec\, J6T 1E7\, Canada
CATEGORIES:Ateliers parents-enfants,Salaberry-de-Valleyfield
ORGANIZER;CN="ABC de la famille":MAILTO:info@abcfamille.ca
END:VEVENT
END:VCALENDAR