BEGIN:VCALENDAR
VERSION:2.0
PRODID:-//Approche Familles - ECPv6.15.19//NONSGML v1.0//EN
CALSCALE:GREGORIAN
METHOD:PUBLISH
X-WR-CALNAME:Approche Familles
X-ORIGINAL-URL:https://approchefamilles.ca
X-WR-CALDESC:Évènements pour Approche Familles
REFRESH-INTERVAL;VALUE=DURATION:PT1H
X-Robots-Tag:noindex
X-PUBLISHED-TTL:PT1H
BEGIN:VTIMEZONE
TZID:America/Toronto
BEGIN:DAYLIGHT
TZOFFSETFROM:-0500
TZOFFSETTO:-0400
TZNAME:EDT
DTSTART:20250309T070000
END:DAYLIGHT
BEGIN:STANDARD
TZOFFSETFROM:-0400
TZOFFSETTO:-0500
TZNAME:EST
DTSTART:20251102T060000
END:STANDARD
BEGIN:DAYLIGHT
TZOFFSETFROM:-0500
TZOFFSETTO:-0400
TZNAME:EDT
DTSTART:20260308T070000
END:DAYLIGHT
BEGIN:STANDARD
TZOFFSETFROM:-0400
TZOFFSETTO:-0500
TZNAME:EST
DTSTART:20261101T060000
END:STANDARD
BEGIN:DAYLIGHT
TZOFFSETFROM:-0500
TZOFFSETTO:-0400
TZNAME:EDT
DTSTART:20270314T070000
END:DAYLIGHT
BEGIN:STANDARD
TZOFFSETFROM:-0400
TZOFFSETTO:-0500
TZNAME:EST
DTSTART:20271107T060000
END:STANDARD
END:VTIMEZONE
BEGIN:VEVENT
DTSTART;TZID=America/Toronto:20260310T080000
DTEND;TZID=America/Toronto:20260310T110000
DTSTAMP:20260419T141537
CREATED:20260120T155941Z
LAST-MODIFIED:20260120T155941Z
UID:5079-1773129600-1773140400@approchefamilles.ca
SUMMARY:Moussaillons 24/36 mois - Halte Familiale
DESCRIPTION:Les Moussaillons\n2-3 ans\n\nAtelier de stimulation du langage et stimulation précoce animer en dyade parent et enfants.Les objectifs visés sont : \n\nAider les enfants à développer son estime de soi\, son autonomie;\nFavoriser les habiletés langagières de l’enfant par des activités ciblées en stimulation du langage;\nPermettre d’accroître et de maximiser le processus du développement des précurseurs du langage;\nOutiller et soutenir les parents afin qu’ils exploitent les bonnes attitudes quant à la stimulation du langage de leurs enfants;\nAmener les parents les parents à utiliser des stratégies d’intervention et des activités à la maison et par le fait même réinvestir dans leur quotidien des actions visant à multiplier les chances de réussite de leur enfant;\nAugmenter chez les parents la confiance en leurs compétences;\nMieux informer les parents afin qu’ils développent de nouvelles compétences dans la stimulation de développement du langage de leur enfant de façon optimale.
URL:https://approchefamilles.ca/event/moussaillons-24-36-mois-halte-familiale-7/
LOCATION:Halte Familiale\, 600\, rue Ellice\, Beauharnois\, Québec\, J6N 3P7\, Canada
CATEGORIES:Ateliers parents-enfants,Beauharnois
END:VEVENT
BEGIN:VEVENT
DTSTART;TZID=America/Toronto:20260310T130000
DTEND;TZID=America/Toronto:20260310T153000
DTSTAMP:20260419T141537
CREATED:20251208T201204Z
LAST-MODIFIED:20251208T201204Z
UID:4855-1773147600-1773156600@approchefamilles.ca
SUMMARY:Koalas 0-12 mois - ABC de la famille
DESCRIPTION:8 ateliers parent-enfant\nsur la stimulation du développement global\nLes koalas colleux (0-12 mois)\nViens découvrir les différentes sphères du développement de l’enfant \nDu 27 janvier au 24 mars 2026 \nPour vous inscrire\, vous devez obligatoirement devenir membre de l’ABC de la famille\, il vous en coutera 5 $ annuellement\, renouvelable à partir de juin l’année suivante. \nIl y a une halte-garderie disponible gratuitement pendant les ateliers. \nEt sur demande\, le transport est gratuit.
URL:https://approchefamilles.ca/event/koalas-0-12-mois-abc-de-la-famille-7/
LOCATION:ABC de la Famille\, 20\, rue St-Pierre\, Salaberry-de-Valleyfield\, Québec\, J6T 1E7\, Canada
CATEGORIES:Ateliers parents-enfants,Salaberry-de-Valleyfield
ORGANIZER;CN="ABC de la famille":MAILTO:info@abcfamille.ca
END:VEVENT
END:VCALENDAR