BEGIN:VCALENDAR
VERSION:2.0
PRODID:-//Approche Familles - ECPv6.15.20//NONSGML v1.0//EN
CALSCALE:GREGORIAN
METHOD:PUBLISH
X-WR-CALNAME:Approche Familles
X-ORIGINAL-URL:https://approchefamilles.ca
X-WR-CALDESC:Évènements pour Approche Familles
REFRESH-INTERVAL;VALUE=DURATION:PT1H
X-Robots-Tag:noindex
X-PUBLISHED-TTL:PT1H
BEGIN:VTIMEZONE
TZID:America/Toronto
BEGIN:DAYLIGHT
TZOFFSETFROM:-0500
TZOFFSETTO:-0400
TZNAME:EDT
DTSTART:20250309T070000
END:DAYLIGHT
BEGIN:STANDARD
TZOFFSETFROM:-0400
TZOFFSETTO:-0500
TZNAME:EST
DTSTART:20251102T060000
END:STANDARD
BEGIN:DAYLIGHT
TZOFFSETFROM:-0500
TZOFFSETTO:-0400
TZNAME:EDT
DTSTART:20260308T070000
END:DAYLIGHT
BEGIN:STANDARD
TZOFFSETFROM:-0400
TZOFFSETTO:-0500
TZNAME:EST
DTSTART:20261101T060000
END:STANDARD
BEGIN:DAYLIGHT
TZOFFSETFROM:-0500
TZOFFSETTO:-0400
TZNAME:EDT
DTSTART:20270314T070000
END:DAYLIGHT
BEGIN:STANDARD
TZOFFSETFROM:-0400
TZOFFSETTO:-0500
TZNAME:EST
DTSTART:20271107T060000
END:STANDARD
END:VTIMEZONE
BEGIN:VEVENT
DTSTART;TZID=America/Toronto:20260422T090000
DTEND;TZID=America/Toronto:20260422T110000
DTSTAMP:20260422T014104
CREATED:20260326T174634Z
LAST-MODIFIED:20260326T174634Z
UID:5376-1776848400-1776855600@approchefamilles.ca
SUMMARY:marmite des mamans - ABC de la famille
DESCRIPTION:La marmite des mamans – ateliers culinaires prénataux\nVous êtes enceinte ? Vous aimeriez cuisiner davantage\, utiliser de bons aliments\, trouver des recettes intéressantes ? La marmite des mamans est pour vous ! \nLes besoins alimentaires changent pendant la grossesse. Les recettes proposées lors de cet atelier seront donc orientées en ce sens\, pour viser autant le bien-être de la maman que celui du bébé à naître. \n8 mercredis de 9h à 11h\, du 22 avril au 10 juin 2026 \n*La halte-garderie est offerte aux enfants de 0-5 ans. \nCoût : 7$ par personne\, par atelier (donc\, s’il y a deux membres dans la famille\, cela revient à 14$). Vous repartirez avec de généreuses portions des recettes cuisinées !
URL:https://approchefamilles.ca/event/marmite-des-mamans-abc-de-la-famille-20/
LOCATION:ABC de la Famille\, 20\, rue St-Pierre\, Salaberry-de-Valleyfield\, Québec\, J6T 1E7\, Canada
CATEGORIES:Cuisines collectives et ateliers cuisine,Salaberry-de-Valleyfield
ORGANIZER;CN="ABC de la famille":MAILTO:info@abcfamille.ca
END:VEVENT
BEGIN:VEVENT
DTSTART;TZID=America/Toronto:20260422T090000
DTEND;TZID=America/Toronto:20260422T130000
DTSTAMP:20260422T014104
CREATED:20260316T180020Z
LAST-MODIFIED:20260316T180020Z
UID:5296-1776848400-1776862800@approchefamilles.ca
SUMMARY:Cuisines collectives - Actions Familles
DESCRIPTION:
URL:https://approchefamilles.ca/event/cuisines-collectives-actions-familles-21/
LOCATION:Actions Familles\, 122\, Saint-Joseph\, Sainte-Martine\, Québec\, J0S 1V0\, Canada
CATEGORIES:Cuisines collectives et ateliers cuisine,Sainte-Martine
ATTACH;FMTTYPE=image/jpeg:https://approchefamilles.ca/wp-content/uploads/2026/03/CUISINES-COLLECTIVES.jpg
ORGANIZER;CN="Actions Familles":MAILTO:info@actionsfamilles.org
END:VEVENT
BEGIN:VEVENT
DTSTART;TZID=America/Toronto:20260422T090000
DTEND;TZID=America/Toronto:20260422T130000
DTSTAMP:20260422T014104
CREATED:20260408T151217Z
LAST-MODIFIED:20260408T151217Z
UID:5469-1776848400-1776862800@approchefamilles.ca
SUMMARY:Cuisines collectives - Actions Familles
DESCRIPTION:
URL:https://approchefamilles.ca/event/cuisines-collectives-actions-familles-24/
LOCATION:Actions Familles\, 122\, Saint-Joseph\, Sainte-Martine\, Québec\, J0S 1V0\, Canada
CATEGORIES:Cuisines collectives et ateliers cuisine,Salaberry-de-Valleyfield
ATTACH;FMTTYPE=image/jpeg:https://approchefamilles.ca/wp-content/uploads/2026/04/cuisine-collectives.jpg
ORGANIZER;CN="Actions Familles":MAILTO:info@actionsfamilles.org
END:VEVENT
BEGIN:VEVENT
DTSTART;TZID=America/Toronto:20260422T120000
DTEND;TZID=America/Toronto:20260422T170000
DTSTAMP:20260422T014104
CREATED:20260408T151751Z
LAST-MODIFIED:20260408T151751Z
UID:5477-1776859200-1776877200@approchefamilles.ca
SUMMARY:Tissages d'art - PRAQ
DESCRIPTION:TISSAGES D’ART\n\n\nPRAQ est fier d’annoncer le départ d’un nouveau projet créatif et novateur où participation citoyenne et art urbain se rencontrent! Au cours des prochains mois\, une grande œuvre collective sera créée par notre collectivité et puis installée aux yeux de tous. Objets divers et matériel d’art seront mis à disposition des participants pour laisser libre cours à leur créativité. Artistes locaux seront invités à partager leur créativité et impliquer le public à créer avec eux.\n\n\nCela pique votre curiosité n’est-ce pas?\n\n\nPour faire partie de ce projet grandiose\, rendez-vous à La Factrie\, Espace culturel et participez aux jets créatifs.\n\n\nD’autres jets créatifs et événements seront annoncés au courant des prochaines semaines. Pour ne rien manquer\, écrivez-nous par Messenger ou à audree@praq.org\n\n\nNous remercions la Ville de Salaberry-de-Valleyfield pour leur collaboration!
URL:https://approchefamilles.ca/event/tissages-dart-praq/
LOCATION:La Factrie\, café culturel\, 17\, rue du Marché\, Salaberry-de-Valleyfield\, Québec\, Canada
CATEGORIES:Pour toute la famille,Salaberry-de-Valleyfield
ATTACH;FMTTYPE=image/jpeg:https://approchefamilles.ca/wp-content/uploads/2026/04/667166945_1271857528423777_2068541274287916071_n.jpg
ORGANIZER;CN="PRAQ":MAILTO:info@praq.org
END:VEVENT
END:VCALENDAR