BEGIN:VCALENDAR
VERSION:2.0
PRODID:-//Approche Familles - ECPv6.15.19//NONSGML v1.0//EN
CALSCALE:GREGORIAN
METHOD:PUBLISH
X-WR-CALNAME:Approche Familles
X-ORIGINAL-URL:https://approchefamilles.ca
X-WR-CALDESC:Évènements pour Approche Familles
REFRESH-INTERVAL;VALUE=DURATION:PT1H
X-Robots-Tag:noindex
X-PUBLISHED-TTL:PT1H
BEGIN:VTIMEZONE
TZID:America/Toronto
BEGIN:DAYLIGHT
TZOFFSETFROM:-0500
TZOFFSETTO:-0400
TZNAME:EDT
DTSTART:20250309T070000
END:DAYLIGHT
BEGIN:STANDARD
TZOFFSETFROM:-0400
TZOFFSETTO:-0500
TZNAME:EST
DTSTART:20251102T060000
END:STANDARD
BEGIN:DAYLIGHT
TZOFFSETFROM:-0500
TZOFFSETTO:-0400
TZNAME:EDT
DTSTART:20260308T070000
END:DAYLIGHT
BEGIN:STANDARD
TZOFFSETFROM:-0400
TZOFFSETTO:-0500
TZNAME:EST
DTSTART:20261101T060000
END:STANDARD
BEGIN:DAYLIGHT
TZOFFSETFROM:-0500
TZOFFSETTO:-0400
TZNAME:EDT
DTSTART:20270314T070000
END:DAYLIGHT
BEGIN:STANDARD
TZOFFSETFROM:-0400
TZOFFSETTO:-0500
TZNAME:EST
DTSTART:20271107T060000
END:STANDARD
END:VTIMEZONE
BEGIN:VEVENT
DTSTART;TZID=America/Toronto:20260420T130000
DTEND;TZID=America/Toronto:20260420T153000
DTSTAMP:20260420T013144
CREATED:20251204T200307Z
LAST-MODIFIED:20251204T200307Z
UID:4803-1776690000-1776699000@approchefamilles.ca
SUMMARY:Purées gourmandes - ABC de la famille
DESCRIPTION:Du 19 janvier au 23 février 2026\nDu 9 mars au 20 avril 2026\nPour les parents de bébés qui ont entre 4 et 6 mois et qui veulent apprendre à préparer toutes sortes de purées. \nDans une ambiance chaleureuse\, on cuisine et on s’informe sur les débuts de l’alimentation. \n*La halte-garderie est offerte aux enfants de 0-5 ans. \nCoût : 5$ par atelier. Vous ramènerez plein de belles réserves pour la maison ! \nPour vous inscrire\, vous devez obligatoirement devenir membre de l’ABC de la famille\, il vous en coutera 5 $ annuellement\, renouvelable à partir de juin l’année suivante.\nEt sur demande\, le transport est gratuit.
URL:https://approchefamilles.ca/event/purees-gourmandes-abc-de-la-famille-45/
LOCATION:ABC de la Famille\, 20\, rue St-Pierre\, Salaberry-de-Valleyfield\, Québec\, J6T 1E7\, Canada
CATEGORIES:Cuisines collectives et ateliers cuisine,Salaberry-de-Valleyfield
ORGANIZER;CN="ABC de la famille":MAILTO:info@abcfamille.ca
END:VEVENT
END:VCALENDAR