BEGIN:VCALENDAR
VERSION:2.0
PRODID:-//Approche Familles - ECPv6.15.19//NONSGML v1.0//EN
CALSCALE:GREGORIAN
METHOD:PUBLISH
X-ORIGINAL-URL:https://approchefamilles.ca
X-WR-CALDESC:Évènements pour Approche Familles
REFRESH-INTERVAL;VALUE=DURATION:PT1H
X-Robots-Tag:noindex
X-PUBLISHED-TTL:PT1H
BEGIN:VTIMEZONE
TZID:America/Toronto
BEGIN:DAYLIGHT
TZOFFSETFROM:-0500
TZOFFSETTO:-0400
TZNAME:EDT
DTSTART:20250309T070000
END:DAYLIGHT
BEGIN:STANDARD
TZOFFSETFROM:-0400
TZOFFSETTO:-0500
TZNAME:EST
DTSTART:20251102T060000
END:STANDARD
BEGIN:DAYLIGHT
TZOFFSETFROM:-0500
TZOFFSETTO:-0400
TZNAME:EDT
DTSTART:20260308T070000
END:DAYLIGHT
BEGIN:STANDARD
TZOFFSETFROM:-0400
TZOFFSETTO:-0500
TZNAME:EST
DTSTART:20261101T060000
END:STANDARD
BEGIN:DAYLIGHT
TZOFFSETFROM:-0500
TZOFFSETTO:-0400
TZNAME:EDT
DTSTART:20270314T070000
END:DAYLIGHT
BEGIN:STANDARD
TZOFFSETFROM:-0400
TZOFFSETTO:-0500
TZNAME:EST
DTSTART:20271107T060000
END:STANDARD
END:VTIMEZONE
BEGIN:VEVENT
DTSTART;TZID=America/Toronto:20260402T090000
DTEND;TZID=America/Toronto:20260402T120000
DTSTAMP:20260419T085858
CREATED:20260312T151225Z
LAST-MODIFIED:20260312T151225Z
UID:5276-1775120400-1775131200@approchefamilles.ca
SUMMARY:Groupe d'entraide pour parents familles monoparentales / recomposées
DESCRIPTION:
URL:https://approchefamilles.ca/event/groupe-dentraide-pour-parents-familles-monoparentales-recomposees-6/
LOCATION:Entraide pour Monoparentales et Familles Recomposées du Suroît\, 489\, Chemin Larocque\, Salaberry-de-Valleyfield\, Québec\, J6T 4C8\, Canada
CATEGORIES:Groupe d'entraide,Salaberry-de-Valleyfield
ATTACH;FMTTYPE=image/jpeg:https://approchefamilles.ca/wp-content/uploads/2026/02/637179287_1347457573854395_318830913842335968_n.jpg
ORGANIZER;CN="Entraide pour Monoparentales et Familles recompos%C3%A9es du Suro%C3%AEt":MAILTO:info@entraidedusuroit.ca
END:VEVENT
BEGIN:VEVENT
DTSTART;TZID=America/Toronto:20260402T090000
DTEND;TZID=America/Toronto:20260402T130000
DTSTAMP:20260419T085858
CREATED:20251209T193201Z
LAST-MODIFIED:20251209T193201Z
UID:4935-1775120400-1775134800@approchefamilles.ca
SUMMARY:Cuisines collectives - ABC de la famille
DESCRIPTION:Cuisines collectives \nUn classique des ateliers culinaires et toujours aussi populaire ! Pour trouver des nouvelles recettes familiales à bons prix\, cuisiner dans le plaisir et apprendre des techniques qui serviront au quotidien. \n*Pour les parents d’enfants 0-12 ans \nIl y aura deux groupes qui s’alterneront 1 semaine sur 2 les jeudis de 9h à 13h : \n1 – du 29 janvier au 7 mai 2026 \n2 – du 5 février au 14 mai 2026 \n*La halte-garderie est offerte aux enfants de 0-5 ans. \nCoût : 7$ par personne\, par atelier (par exemple\, pour une famille de 4\, cela revient à 28$ pour 4 recettes. Une aubaine !)
URL:https://approchefamilles.ca/event/cuisines-collectives-abc-de-la-famille-90/
LOCATION:ABC de la Famille\, 20\, rue St-Pierre\, Salaberry-de-Valleyfield\, Québec\, J6T 1E7\, Canada
CATEGORIES:Cuisines collectives et ateliers cuisine,Salaberry-de-Valleyfield
ORGANIZER;CN="ABC de la famille":MAILTO:info@abcfamille.ca
END:VEVENT
BEGIN:VEVENT
DTSTART;TZID=America/Toronto:20260402T120000
DTEND;TZID=America/Toronto:20260402T140000
DTSTAMP:20260419T085858
CREATED:20260312T144241Z
LAST-MODIFIED:20260312T144241Z
UID:5250-1775131200-1775138400@approchefamilles.ca
SUMMARY:Séance d'information sur la stimulation du langage pour les enfants 0-5 ans en VIRTUEL
DESCRIPTION:
URL:https://approchefamilles.ca/event/seance-dinformation-sur-la-stimulation-du-langage-pour-les-enfants-0-5-ans-en-virtuel/
LOCATION:À la maison\, par vidéo
CATEGORIES:Conférence ou atelier en ligne,Orthophonie communautaire
ATTACH;FMTTYPE=image/png:https://approchefamilles.ca/wp-content/uploads/2026/03/40b20e14-7c8a-4fe3-9c41-eeb9ccd7055d.png
END:VEVENT
END:VCALENDAR