BEGIN:VCALENDAR
VERSION:2.0
PRODID:-//Approche Familles - ECPv6.15.20//NONSGML v1.0//EN
CALSCALE:GREGORIAN
METHOD:PUBLISH
X-WR-CALNAME:Approche Familles
X-ORIGINAL-URL:https://approchefamilles.ca
X-WR-CALDESC:Évènements pour Approche Familles
REFRESH-INTERVAL;VALUE=DURATION:PT1H
X-Robots-Tag:noindex
X-PUBLISHED-TTL:PT1H
BEGIN:VTIMEZONE
TZID:America/Toronto
BEGIN:DAYLIGHT
TZOFFSETFROM:-0500
TZOFFSETTO:-0400
TZNAME:EDT
DTSTART:20250309T070000
END:DAYLIGHT
BEGIN:STANDARD
TZOFFSETFROM:-0400
TZOFFSETTO:-0500
TZNAME:EST
DTSTART:20251102T060000
END:STANDARD
BEGIN:DAYLIGHT
TZOFFSETFROM:-0500
TZOFFSETTO:-0400
TZNAME:EDT
DTSTART:20260308T070000
END:DAYLIGHT
BEGIN:STANDARD
TZOFFSETFROM:-0400
TZOFFSETTO:-0500
TZNAME:EST
DTSTART:20261101T060000
END:STANDARD
BEGIN:DAYLIGHT
TZOFFSETFROM:-0500
TZOFFSETTO:-0400
TZNAME:EDT
DTSTART:20270314T070000
END:DAYLIGHT
BEGIN:STANDARD
TZOFFSETFROM:-0400
TZOFFSETTO:-0500
TZNAME:EST
DTSTART:20271107T060000
END:STANDARD
END:VTIMEZONE
BEGIN:VEVENT
DTSTART;TZID=America/Toronto:20260319T080000
DTEND;TZID=America/Toronto:20260319T110000
DTSTAMP:20260421T041537
CREATED:20260120T184406Z
LAST-MODIFIED:20260120T184406Z
UID:5123-1773907200-1773918000@approchefamilles.ca
SUMMARY:Les capitaines 3/5 ans - Halte Familiale
DESCRIPTION:Les Capitaines\nAtelier parents enfants sur le développement du langage ayant pour but d’outiller les familles en attente de service en orthophonie. \nDe 8 h à 11 h \nDans les locaux de la Halte
URL:https://approchefamilles.ca/event/les-capitaines-3-5-ans-halte-familiale-14/
LOCATION:Halte Familiale\, 600\, rue Ellice\, Beauharnois\, Québec\, J6N 3P7\, Canada
CATEGORIES:Ateliers parents-enfants,Beauharnois
END:VEVENT
BEGIN:VEVENT
DTSTART;TZID=America/Toronto:20260319T090000
DTEND;TZID=America/Toronto:20260319T100000
DTSTAMP:20260421T041537
CREATED:20260312T152426Z
LAST-MODIFIED:20260312T152426Z
UID:5284-1773910800-1773914400@approchefamilles.ca
SUMMARY:Heure du conte - Saint-Urbain-Premier
DESCRIPTION:
URL:https://approchefamilles.ca/event/heure-du-conte-saint-urbain-premier/
LOCATION:Bibliothèque Armand-Miller\, 9\, rue de l'École\, Saint-Urbain-Premier\, Québec\, J0S 1Y0\, Canada
CATEGORIES:Lecture de conte,Sainte-Martine
ATTACH;FMTTYPE=image/jpeg:https://approchefamilles.ca/wp-content/uploads/2026/03/HEURE-DU-CONTE.jpg
ORGANIZER;CN="Actions Familles":MAILTO:info@actionsfamilles.org
END:VEVENT
BEGIN:VEVENT
DTSTART;TZID=America/Toronto:20260319T090000
DTEND;TZID=America/Toronto:20260319T113000
DTSTAMP:20260421T041537
CREATED:20251209T185846Z
LAST-MODIFIED:20251209T185846Z
UID:4914-1773910800-1773919800@approchefamilles.ca
SUMMARY:YAPP - ABC de la famille
DESCRIPTION:YAPP\nAtelier pour parents : Y’a personne de parfait \nDu 22 janvier au 19 mars 2026 \nYAPP est un programme d’enrichissement de l’expérience parentale\, offert pour les parents d’enfants âgés de cinq ans et moins. Il s’agit d’une série de 8 à 10 rencontres et le programme est conçu pour répondre aux besoins des parents. \n\n\n\nLes parents participent à des rencontres de groupe qui visent à :\n\n\n\n\npromouvoir les compétences parentales positives ;\naméliorer la compréhension des parents à l’égard de la santé\, de la sécurité et du comportement de leurs enfants ;\naider les parents à renforcer leurs compétences et à en acquérir de nouvelles ;\naméliorer l’estime de soi et la capacité d’adaptation des parents ;\naccroître l’entraide et le soutien mutuel des parents ;\nmettre les parents en contact avec les services et les ressources communautaires ;\naider à prévenir la violence familiale
URL:https://approchefamilles.ca/event/yapp-abc-de-la-famille-27/
LOCATION:ABC de la Famille\, 20\, rue St-Pierre\, Salaberry-de-Valleyfield\, Québec\, J6T 1E7\, Canada
CATEGORIES:Ateliers parents seulement,Salaberry-de-Valleyfield
ORGANIZER;CN="ABC de la famille":MAILTO:info@abcfamille.ca
END:VEVENT
BEGIN:VEVENT
DTSTART;TZID=America/Toronto:20260319T090000
DTEND;TZID=America/Toronto:20260319T120000
DTSTAMP:20260421T041537
CREATED:20260312T151034Z
LAST-MODIFIED:20260312T151034Z
UID:5272-1773910800-1773921600@approchefamilles.ca
SUMMARY:Groupe d'entraide pour parents familles monoparentales / recomposées
DESCRIPTION:
URL:https://approchefamilles.ca/event/groupe-dentraide-pour-parents-familles-monoparentales-recomposees-4/
LOCATION:Entraide pour Monoparentales et Familles Recomposées du Suroît\, 489\, Chemin Larocque\, Salaberry-de-Valleyfield\, Québec\, J6T 4C8\, Canada
CATEGORIES:Groupe d'entraide,Salaberry-de-Valleyfield
ATTACH;FMTTYPE=image/jpeg:https://approchefamilles.ca/wp-content/uploads/2026/02/637179287_1347457573854395_318830913842335968_n.jpg
ORGANIZER;CN="Entraide pour Monoparentales et Familles recompos%C3%A9es du Suro%C3%AEt":MAILTO:info@entraidedusuroit.ca
END:VEVENT
BEGIN:VEVENT
DTSTART;TZID=America/Toronto:20260319T170000
DTEND;TZID=America/Toronto:20260319T190000
DTSTAMP:20260421T041537
CREATED:20260310T173247Z
LAST-MODIFIED:20260310T173247Z
UID:5244-1773939600-1773946800@approchefamilles.ca
SUMMARY:5 à 7 communautaires - École Sacré-Coeur
DESCRIPTION:
URL:https://approchefamilles.ca/event/5-a-7-communautaires-ecole-sacre-coeur/
LOCATION:École Sacré-Coeur\, 285\, rue Alphonse-Desjardins\, Salaberry-de-Valleyfield\, Québec\, J6T 4K1\, Canada
CATEGORIES:5 à 7 communautaires,Salaberry-de-Valleyfield
ATTACH;FMTTYPE=image/jpeg:https://approchefamilles.ca/wp-content/uploads/2026/03/5-a-7.jpg
ORGANIZER;CN="PRAQ":MAILTO:info@praq.org
END:VEVENT
END:VCALENDAR