BEGIN:VCALENDAR
VERSION:2.0
PRODID:-//Approche Familles - ECPv6.15.19//NONSGML v1.0//EN
CALSCALE:GREGORIAN
METHOD:PUBLISH
X-WR-CALNAME:Approche Familles
X-ORIGINAL-URL:https://approchefamilles.ca
X-WR-CALDESC:Évènements pour Approche Familles
REFRESH-INTERVAL;VALUE=DURATION:PT1H
X-Robots-Tag:noindex
X-PUBLISHED-TTL:PT1H
BEGIN:VTIMEZONE
TZID:America/Toronto
BEGIN:DAYLIGHT
TZOFFSETFROM:-0500
TZOFFSETTO:-0400
TZNAME:EDT
DTSTART:20250309T070000
END:DAYLIGHT
BEGIN:STANDARD
TZOFFSETFROM:-0400
TZOFFSETTO:-0500
TZNAME:EST
DTSTART:20251102T060000
END:STANDARD
BEGIN:DAYLIGHT
TZOFFSETFROM:-0500
TZOFFSETTO:-0400
TZNAME:EDT
DTSTART:20260308T070000
END:DAYLIGHT
BEGIN:STANDARD
TZOFFSETFROM:-0400
TZOFFSETTO:-0500
TZNAME:EST
DTSTART:20261101T060000
END:STANDARD
BEGIN:DAYLIGHT
TZOFFSETFROM:-0500
TZOFFSETTO:-0400
TZNAME:EDT
DTSTART:20270314T070000
END:DAYLIGHT
BEGIN:STANDARD
TZOFFSETFROM:-0400
TZOFFSETTO:-0500
TZNAME:EST
DTSTART:20271107T060000
END:STANDARD
END:VTIMEZONE
BEGIN:VEVENT
DTSTART;TZID=America/Toronto:20260313T090000
DTEND;TZID=America/Toronto:20260313T113000
DTSTAMP:20260419T085349
CREATED:20251209T200236Z
LAST-MODIFIED:20251209T200236Z
UID:4965-1773392400-1773401400@approchefamilles.ca
SUMMARY:Moussaillons 12-24 mois - ABC de la famille
DESCRIPTION:  \n\n\nLes moussaillons – stimulation du langage (12-24 mois) \nEh oui ! On peut faire de la stimulation du langage dès les premiers mois de vie de l’enfant. Plus on commence tôt et plus le langage a de meilleures chances de bien se développer. \nEn compagnie d’autres duos parents-bébés\, venez explorer de quelles façons vous pouvez communiquer avec votre poupon. Une intervenante d’expérience vous proposera toutes sortes d’activités pour interagir avec votre bébé selon son âge. \nDu 23 janvier au 20 mars 20226 \n*La halte-garderie est offerte à la fratrie entre 0-5 ans. \n**Sans séparation
URL:https://approchefamilles.ca/event/moussaillons-12-24-mois-abc-de-la-famille-7/
LOCATION:ABC de la Famille\, 20\, rue St-Pierre\, Salaberry-de-Valleyfield\, Québec\, J6T 1E7\, Canada
CATEGORIES:Orthophonie communautaire,Salaberry-de-Valleyfield
ORGANIZER;CN="ABC de la famille":MAILTO:info@abcfamille.ca
END:VEVENT
BEGIN:VEVENT
DTSTART;TZID=America/Toronto:20260313T090000
DTEND;TZID=America/Toronto:20260313T150000
DTSTAMP:20260419T085350
CREATED:20260120T192738Z
LAST-MODIFIED:20260120T192738Z
UID:5142-1773392400-1773414000@approchefamilles.ca
SUMMARY:Cuisines collectives - Halte Familiale
DESCRIPTION:Cuisines collectives\nTous les vendredis\, de 9 h à 15 h \nLes cuisines collectives permettent : \n\n\n\n\n\nd’économiser du temps dans la préparation des repas ;\nd’économiser de l’argent en cuisinant à bas prix ;\nd’apprendre à préparer des repas variés et nutritifs ;\nde donner le goût de cuisiner\, de partager ses connaissances et de créer des liens avec les autres participants.\n\nPour inscription\, contacter la Halte Familiale au 450 225-2725
URL:https://approchefamilles.ca/event/cuisines-collectives-halte-familiale-46/
LOCATION:Halte Familiale\, 600\, rue Ellice\, Beauharnois\, Québec\, J6N 3P7\, Canada
CATEGORIES:Beauharnois,Cuisines collectives et ateliers cuisine
END:VEVENT
END:VCALENDAR