BEGIN:VCALENDAR
VERSION:2.0
PRODID:-//Approche Familles - ECPv6.15.19//NONSGML v1.0//EN
CALSCALE:GREGORIAN
METHOD:PUBLISH
X-ORIGINAL-URL:https://approchefamilles.ca
X-WR-CALDESC:Évènements pour Approche Familles
REFRESH-INTERVAL;VALUE=DURATION:PT1H
X-Robots-Tag:noindex
X-PUBLISHED-TTL:PT1H
BEGIN:VTIMEZONE
TZID:America/Toronto
BEGIN:DAYLIGHT
TZOFFSETFROM:-0500
TZOFFSETTO:-0400
TZNAME:EDT
DTSTART:20250309T070000
END:DAYLIGHT
BEGIN:STANDARD
TZOFFSETFROM:-0400
TZOFFSETTO:-0500
TZNAME:EST
DTSTART:20251102T060000
END:STANDARD
BEGIN:DAYLIGHT
TZOFFSETFROM:-0500
TZOFFSETTO:-0400
TZNAME:EDT
DTSTART:20260308T070000
END:DAYLIGHT
BEGIN:STANDARD
TZOFFSETFROM:-0400
TZOFFSETTO:-0500
TZNAME:EST
DTSTART:20261101T060000
END:STANDARD
BEGIN:DAYLIGHT
TZOFFSETFROM:-0500
TZOFFSETTO:-0400
TZNAME:EDT
DTSTART:20270314T070000
END:DAYLIGHT
BEGIN:STANDARD
TZOFFSETFROM:-0400
TZOFFSETTO:-0500
TZNAME:EST
DTSTART:20271107T060000
END:STANDARD
END:VTIMEZONE
BEGIN:VEVENT
DTSTART;TZID=America/Toronto:20260307T103000
DTEND;TZID=America/Toronto:20260307T113000
DTSTAMP:20260420T042212
CREATED:20260219T203056Z
LAST-MODIFIED:20260219T203149Z
UID:5242-1772879400-1772883000@approchefamilles.ca
SUMMARY:Heure du conte avec Fanfan
DESCRIPTION:Thématique : 𝘓𝘦 𝘱𝘳𝘪𝘯𝘵𝘦𝘮𝘱𝘴 𝘢𝘳𝘳𝘪𝘷𝘦!\nDécouvrez l’univers de la littérature jeunesse dans le cadre d’une heure du conte interactive\, animée par FanFan!\nClientèle : Activité pour les enfants de 3 à 7 ans accompagné d’un adulte.\nProgrammation des activités de la semaine de relâche : https://www.ville.valleyfield.qc.ca/relache
URL:https://approchefamilles.ca/event/heure-du-conte-avec-fanfan-5/
LOCATION:Bibliothèque Armand-Frappier\, 80\, rue Saint-Thomas\, Salaberry-de-Valleyfield\, Québec\, Canada
CATEGORIES:Lecture de conte,Salaberry-de-Valleyfield
ATTACH;FMTTYPE=image/jpeg:https://approchefamilles.ca/wp-content/uploads/2026/02/638802951_1324843546355058_5371866876768383454_n.jpg
END:VEVENT
BEGIN:VEVENT
DTSTART;TZID=America/Toronto:20260307T143000
DTEND;TZID=America/Toronto:20260307T153000
DTSTAMP:20260420T042212
CREATED:20260219T202953Z
LAST-MODIFIED:20260219T202953Z
UID:5240-1772893800-1772897400@approchefamilles.ca
SUMMARY:Heure du conte avec Fanfan
DESCRIPTION:Thématique : 𝘓𝘦 𝘱𝘳𝘪𝘯𝘵𝘦𝘮𝘱𝘴 𝘢𝘳𝘳𝘪𝘷𝘦!\nDécouvrez l’univers de la littérature jeunesse dans le cadre d’une heure du conte interactive\, animée par FanFan!\nClientèle : Activité pour les enfants de 3 à 7 ans accompagné d’un adulte.\nProgrammation des activités de la semaine de relâche : https://www.ville.valleyfield.qc.ca/relache
URL:https://approchefamilles.ca/event/heure-du-conte-avec-fanfan-4/
LOCATION:Bibliothèque St-Timothée\, 4949\, Boulevard Hébert\, Salaberry-de-Valleyfield\, Québec\, J6S 6C2\, Canada
CATEGORIES:Lecture de conte,Salaberry-de-Valleyfield
ATTACH;FMTTYPE=image/jpeg:https://approchefamilles.ca/wp-content/uploads/2026/02/638802951_1324843546355058_5371866876768383454_n.jpg
END:VEVENT
END:VCALENDAR