BEGIN:VCALENDAR
VERSION:2.0
PRODID:-//Approche Familles - ECPv6.15.20//NONSGML v1.0//EN
CALSCALE:GREGORIAN
METHOD:PUBLISH
X-WR-CALNAME:Approche Familles
X-ORIGINAL-URL:https://approchefamilles.ca
X-WR-CALDESC:Évènements pour Approche Familles
REFRESH-INTERVAL;VALUE=DURATION:PT1H
X-Robots-Tag:noindex
X-PUBLISHED-TTL:PT1H
BEGIN:VTIMEZONE
TZID:America/Toronto
BEGIN:DAYLIGHT
TZOFFSETFROM:-0500
TZOFFSETTO:-0400
TZNAME:EDT
DTSTART:20250309T070000
END:DAYLIGHT
BEGIN:STANDARD
TZOFFSETFROM:-0400
TZOFFSETTO:-0500
TZNAME:EST
DTSTART:20251102T060000
END:STANDARD
BEGIN:DAYLIGHT
TZOFFSETFROM:-0500
TZOFFSETTO:-0400
TZNAME:EDT
DTSTART:20260308T070000
END:DAYLIGHT
BEGIN:STANDARD
TZOFFSETFROM:-0400
TZOFFSETTO:-0500
TZNAME:EST
DTSTART:20261101T060000
END:STANDARD
BEGIN:DAYLIGHT
TZOFFSETFROM:-0500
TZOFFSETTO:-0400
TZNAME:EDT
DTSTART:20270314T070000
END:DAYLIGHT
BEGIN:STANDARD
TZOFFSETFROM:-0400
TZOFFSETTO:-0500
TZNAME:EST
DTSTART:20271107T060000
END:STANDARD
END:VTIMEZONE
BEGIN:VEVENT
DTSTART;TZID=America/Toronto:20260228T100000
DTEND;TZID=America/Toronto:20260228T113000
DTSTAMP:20260421T035952
CREATED:20260218T192119Z
LAST-MODIFIED:20260218T192119Z
UID:5192-1772272800-1772278200@approchefamilles.ca
SUMMARY:L'historiette des fées PRAQuette - édition Folklore
DESCRIPTION:
URL:https://approchefamilles.ca/event/lhistoriette-des-fees-praquette-edition-folklore/
LOCATION:Serres Michaud\, 1305\, Boulevard du Bord de l'eau\, Salaberry-de-Valleyfield\, QC\, J6S 0C7\, Canada
CATEGORIES:Pour toute la famille,Salaberry-de-Valleyfield
ATTACH;FMTTYPE=image/png:https://approchefamilles.ca/wp-content/uploads/2026/02/0e5ebfed-daba-47e6-b4c6-1d0ed355ed95.png
ORGANIZER;CN="PRAQ":MAILTO:info@praq.org
END:VEVENT
BEGIN:VEVENT
DTSTART;TZID=America/Toronto:20260228T120000
DTEND;TZID=America/Toronto:20260228T130000
DTSTAMP:20260421T035952
CREATED:20260205T190408Z
LAST-MODIFIED:20260205T190408Z
UID:5172-1772280000-1772283600@approchefamilles.ca
SUMMARY:Cuisines parents-enfants avec Laurie - Actions Familles
DESCRIPTION:
URL:https://approchefamilles.ca/event/cuisines-parents-enfants-avec-laurie-actions-familles-39/
LOCATION:À la maison\, par vidéo
CATEGORIES:Cuisines collectives et ateliers cuisine,Sainte-Martine
ATTACH;FMTTYPE=image/jpeg:https://approchefamilles.ca/wp-content/uploads/2026/02/cuisine-avec-Laurie.jpg
ORGANIZER;CN="Actions Familles":MAILTO:info@actionsfamilles.org
END:VEVENT
BEGIN:VEVENT
DTSTART;TZID=America/Toronto:20260228T170000
DTEND;TZID=America/Toronto:20260228T223000
DTSTAMP:20260421T035952
CREATED:20260219T195742Z
LAST-MODIFIED:20260219T195742Z
UID:5224-1772298000-1772317800@approchefamilles.ca
SUMMARY:Evènement clôture APOAC - Mois des noirs
DESCRIPTION:
URL:https://approchefamilles.ca/event/evenement-cloture-apoac-mois-des-noirs/
LOCATION:Édifice Raphael-Barrette\, 222\, rue Alphonse-Desjardins\, Salaberry-de-Valleyfield\, QC\, J6S 2N9\, Canada
CATEGORIES:Pour toute la famille,Salaberry-de-Valleyfield
ATTACH;FMTTYPE=image/jpeg:https://approchefamilles.ca/wp-content/uploads/2026/02/632147158_942901681730839_7322141430368744478_n.jpg
ORGANIZER;CN="APOAC":MAILTO:apoac.asso@gmail.com
END:VEVENT
END:VCALENDAR