BEGIN:VCALENDAR
VERSION:2.0
PRODID:-//Approche Familles - ECPv6.15.20//NONSGML v1.0//EN
CALSCALE:GREGORIAN
METHOD:PUBLISH
X-WR-CALNAME:Approche Familles
X-ORIGINAL-URL:https://approchefamilles.ca
X-WR-CALDESC:Évènements pour Approche Familles
REFRESH-INTERVAL;VALUE=DURATION:PT1H
X-Robots-Tag:noindex
X-PUBLISHED-TTL:PT1H
BEGIN:VTIMEZONE
TZID:America/Toronto
BEGIN:DAYLIGHT
TZOFFSETFROM:-0500
TZOFFSETTO:-0400
TZNAME:EDT
DTSTART:20250309T070000
END:DAYLIGHT
BEGIN:STANDARD
TZOFFSETFROM:-0400
TZOFFSETTO:-0500
TZNAME:EST
DTSTART:20251102T060000
END:STANDARD
BEGIN:DAYLIGHT
TZOFFSETFROM:-0500
TZOFFSETTO:-0400
TZNAME:EDT
DTSTART:20260308T070000
END:DAYLIGHT
BEGIN:STANDARD
TZOFFSETFROM:-0400
TZOFFSETTO:-0500
TZNAME:EST
DTSTART:20261101T060000
END:STANDARD
BEGIN:DAYLIGHT
TZOFFSETFROM:-0500
TZOFFSETTO:-0400
TZNAME:EDT
DTSTART:20270314T070000
END:DAYLIGHT
BEGIN:STANDARD
TZOFFSETFROM:-0400
TZOFFSETTO:-0500
TZNAME:EST
DTSTART:20271107T060000
END:STANDARD
END:VTIMEZONE
BEGIN:VEVENT
DTSTART;TZID=America/Toronto:20260218T080000
DTEND;TZID=America/Toronto:20260218T110000
DTSTAMP:20260421T125409
CREATED:20260120T161421Z
LAST-MODIFIED:20260120T161421Z
UID:5093-1771401600-1771412400@approchefamilles.ca
SUMMARY:Café causerie - Halte Familiale
DESCRIPTION:Atelier qui s’adresse aux parents d’enfants de 0-5 ans\, discussion autour des réalités familiales. \n\n8 h à 11 h\nDans les locaux de la Halte\nChaque mercredi matin\, à partir du 21 janvier 2026\n\nPour s’inscrire\, contacter la Halte familiale au 450 225-2725
URL:https://approchefamilles.ca/event/cafe-causerie-halte-familiale-20/
LOCATION:Halte Familiale\, 600\, rue Ellice\, Beauharnois\, Québec\, J6N 3P7\, Canada
CATEGORIES:Ateliers parents seulement,Beauharnois
END:VEVENT
BEGIN:VEVENT
DTSTART;TZID=America/Toronto:20260218T090000
DTEND;TZID=America/Toronto:20260218T110000
DTSTAMP:20260421T125409
CREATED:20251209T162320Z
LAST-MODIFIED:20251209T162320Z
UID:4868-1771405200-1771412400@approchefamilles.ca
SUMMARY:Marmite des mamans - ABC de la famille
DESCRIPTION:La marmite des mamans – ateliers culinaires prénataux\nVous êtes enceinte ? Vous aimeriez cuisiner davantage\, utiliser de bons aliments\, trouver des recettes intéressantes ? La marmite des mamans est pour vous ! \nLes besoins alimentaires changent pendant la grossesse. Les recettes proposées lors de cet atelier seront donc orientées en ce sens\, pour viser autant le bien-être de la maman que celui du bébé à naître. \n8 mercredis de 9h à 11h\, du 28 janvier au 25 mars 2026 \n*La halte-garderie est offerte aux enfants de 0-5 ans. \nCoût : 7$ par personne\, par atelier (donc\, s’il y a deux membres dans la famille\, cela revient à 14$). Vous repartirez avec de généreuses portions des recettes cuisinées !
URL:https://approchefamilles.ca/event/marmite-des-mamans-abc-de-la-famille-12/
LOCATION:ABC de la Famille\, 20\, rue St-Pierre\, Salaberry-de-Valleyfield\, Québec\, J6T 1E7\, Canada
CATEGORIES:Cuisines collectives et ateliers cuisine,Salaberry-de-Valleyfield
ORGANIZER;CN="ABC de la famille":MAILTO:info@abcfamille.ca
END:VEVENT
BEGIN:VEVENT
DTSTART;TZID=America/Toronto:20260218T090000
DTEND;TZID=America/Toronto:20260218T110000
DTSTAMP:20260421T125409
CREATED:20251209T162448Z
LAST-MODIFIED:20251209T162448Z
UID:4870-1771405200-1771412400@approchefamilles.ca
SUMMARY:Marmite des mamans - ABC de la famille
DESCRIPTION:La marmite des mamans – ateliers culinaires prénataux\nVous êtes enceinte ? Vous aimeriez cuisiner davantage\, utiliser de bons aliments\, trouver des recettes intéressantes ? La marmite des mamans est pour vous ! \nLes besoins alimentaires changent pendant la grossesse. Les recettes proposées lors de cet atelier seront donc orientées en ce sens\, pour viser autant le bien-être de la maman que celui du bébé à naître. \n8 mercredis de 9h à 11h\, du 28 janvier au 25 mars 2026 \n*La halte-garderie est offerte aux enfants de 0-5 ans. \nCoût : 7$ par personne\, par atelier (donc\, s’il y a deux membres dans la famille\, cela revient à 14$). Vous repartirez avec de généreuses portions des recettes cuisinées !
URL:https://approchefamilles.ca/event/marmite-des-mamans-abc-de-la-famille-13/
LOCATION:ABC de la Famille\, 20\, rue St-Pierre\, Salaberry-de-Valleyfield\, Québec\, J6T 1E7\, Canada
CATEGORIES:Cuisines collectives et ateliers cuisine,Salaberry-de-Valleyfield
ORGANIZER;CN="ABC de la famille":MAILTO:info@abcfamille.ca
END:VEVENT
BEGIN:VEVENT
DTSTART;TZID=America/Toronto:20260218T110000
DTEND;TZID=America/Toronto:20260218T120000
DTSTAMP:20260421T125409
CREATED:20260105T164138Z
LAST-MODIFIED:20260105T164138Z
UID:5009-1771412400-1771416000@approchefamilles.ca
SUMMARY:Activité de développement/stimulation du langage
DESCRIPTION:Les samedis 31 janvier et 14 février\, de 9 h 30 à 10 h 30 et de 11 h à midi\nLes mercredis 4 et 18 février\, de 11 h à midi\nBibliothèque | Gratuit | Inscription sur Voilà! dès le mardi 9 décembre\, 9 h\nPour s’inscrire : ville.beauharnois.qc.ca/voila\n\nÀ noter : Les participants doivent être membres de la bibliothèque\nPar l’entremise de périodes de jeux amusants guidées par des fiches d’activités développées par le département d’orthophonie de l’UQTR\, le programme Biblio-Jeux offre aux parents de l’information sur l’acquisition du langage et de l’éveil à l’écrit\, des stratégies de stimulation du langage à appliquer durant le jeu choisi ainsi que des suggestions de livres et d’activités pour le retour à la maison
URL:https://approchefamilles.ca/event/activite-de-developpement-stimulation-du-langage-5/
LOCATION:Bibliothèque de Beauharnois\, 39\, Rue Richardson\, Beauharnois\, Québec\, J6N 2T3\, Canada
CATEGORIES:Beauharnois,Orthophonie communautaire
ATTACH;FMTTYPE=image/jpeg:https://approchefamilles.ca/wp-content/uploads/2026/01/biblio-jeux.jpg
END:VEVENT
BEGIN:VEVENT
DTSTART;TZID=America/Toronto:20260218T130000
DTEND;TZID=America/Toronto:20260218T153000
DTSTAMP:20260421T125409
CREATED:20251209T181652Z
LAST-MODIFIED:20251209T181652Z
UID:4888-1771419600-1771428600@approchefamilles.ca
SUMMARY:Brindami - ABC de la famille
DESCRIPTION:ATELIERS 3-5 ANS BRINDAMI\n8 ateliers parent – enfants\nSur les habiletés sociales\n\n\nCes ateliers sont basés sur le programme Brindami développé par le Centre de Psychoéducation du Québec et qui est implanté dans plusieurs milieux de garde de la région. Les diverses thématiques explorées visent le développement des habiletés sociales de base\, de communication et de l’expression des émotions\, de l’autocontrôle et de la résolution de conflit. Le parent et son enfant participeront à des activités de stimulation des habiletés sociales et affectives présentant des thèmes tels que les émotions\, le partage\, la prise de contact avec les autres\, etc.\n\n\n\nLes thématiques abordées :\n\n\n\n\nsaluer et s’approcher doucement ;\naccepter ou refuser le contact avec les autres ;\nfaire une demande pour obtenir un jouet et une place ;\ncomprendre et gérer ses émotions ;\nattendre son tour ;\nécouter l’autre ;\nralentir ses élans moteurs ;\nrespirer pour se calmer ;\nfaire face à la tristesse et à la colère ;\ndonner par choix et s’initier au troc.
URL:https://approchefamilles.ca/event/brindami-abc-de-la-famille-11/
LOCATION:ABC de la Famille\, 20\, rue St-Pierre\, Salaberry-de-Valleyfield\, Québec\, J6T 1E7\, Canada
CATEGORIES:Ateliers parents-enfants,Salaberry-de-Valleyfield
ORGANIZER;CN="ABC de la famille":MAILTO:info@abcfamille.ca
END:VEVENT
END:VCALENDAR