BEGIN:VCALENDAR
VERSION:2.0
PRODID:-//Approche Familles - ECPv6.15.19//NONSGML v1.0//EN
CALSCALE:GREGORIAN
METHOD:PUBLISH
X-WR-CALNAME:Approche Familles
X-ORIGINAL-URL:https://approchefamilles.ca
X-WR-CALDESC:Évènements pour Approche Familles
REFRESH-INTERVAL;VALUE=DURATION:PT1H
X-Robots-Tag:noindex
X-PUBLISHED-TTL:PT1H
BEGIN:VTIMEZONE
TZID:UTC
BEGIN:STANDARD
TZOFFSETFROM:+0000
TZOFFSETTO:+0000
TZNAME:UTC
DTSTART:20240101T000000
END:STANDARD
END:VTIMEZONE
BEGIN:VEVENT
DTSTART;TZID=UTC:20250430T090000
DTEND;TZID=UTC:20250430T110000
DTSTAMP:20260420T080259
CREATED:20241218T230256Z
LAST-MODIFIED:20241218T230256Z
UID:3316-1746003600-1746010800@approchefamilles.ca
SUMMARY:Groupe langage CISSSMO - Halte Familiale
DESCRIPTION:Atelier pour parents/enfants de 3-5 ans ayant pour but d’outiller les familles en attentes de services d’orthophonie. \n\n9 h à 11 h\nChaque mercredi matin\nPour 10 semaines approximativement\n\nPour s’inscrire\, contacter la Halte familiale au 450 225-2725
URL:https://approchefamilles.ca/event/groupe-langage-cisssmo-halte-familiale-18/
LOCATION:Halte Familiale\, 600\, rue Ellice\, Beauharnois\, Québec\, J6N 3P7\, Canada
CATEGORIES:Beauharnois,Orthophonie communautaire
END:VEVENT
BEGIN:VEVENT
DTSTART;TZID=UTC:20250430T090000
DTEND;TZID=UTC:20250430T110000
DTSTAMP:20260420T080259
CREATED:20250318T230924Z
LAST-MODIFIED:20250318T230924Z
UID:3685-1746003600-1746010800@approchefamilles.ca
SUMMARY:Cœur de parents - ABC de la famille
DESCRIPTION:Cœur de parents\n8 rencontres \nDu 16 avril au 4 juin 2025\nUn atelier convivial où on crée un lieu d’échange et de soutien. On vient partager sur son rôle de parent\, profiter de l’expérience et du vécu des autres et prendre de la confiance. Plusieurs thématiques sont abordées\, dans le but d’améliorer et/ou de développer de nouvelles habiletés parentales et de prendre plaisir à être parent.
URL:https://approchefamilles.ca/event/coeur-de-parents-abc-de-la-famille-11/
LOCATION:ABC de la Famille\, 20\, rue St-Pierre\, Salaberry-de-Valleyfield\, Québec\, J6T 1E7\, Canada
CATEGORIES:Ateliers parents seulement,Salaberry-de-Valleyfield
ATTACH;FMTTYPE=image/jpeg:https://approchefamilles.ca/wp-content/uploads/2025/03/Coeur-de-parents.jpg
ORGANIZER;CN="ABC de la famille":MAILTO:info@abcfamille.ca
END:VEVENT
BEGIN:VEVENT
DTSTART;TZID=UTC:20250430T090000
DTEND;TZID=UTC:20250430T113000
DTSTAMP:20260420T080259
CREATED:20250318T220628Z
LAST-MODIFIED:20250318T220628Z
UID:3665-1746003600-1746012600@approchefamilles.ca
SUMMARY:Soupes\, desserts et cie - ABC de la famille
DESCRIPTION:Atelier de cuisine pour les parents\nSur les soupes\, desserts et Cie\nDu 16 avril au 4 juin 2025 \nUn atelier pour cuisiner des gourmandises en groupe et rapporter des desserts pour toute la famille.\nPour vous inscrire\, vous devez obligatoirement devenir membre de l’ABC de la famille\, il vous en coutera 5 $ annuellement\, renouvelable à partir de juin l’année suivante. \nIl y a une halte-garderie disponible gratuitement pendant les ateliers. \nEt sur demande\, le transport est gratuit.
URL:https://approchefamilles.ca/event/soupes-desserts-et-cie-abc-de-la-famille-3/
LOCATION:ABC de la Famille\, 20\, rue St-Pierre\, Salaberry-de-Valleyfield\, Québec\, J6T 1E7\, Canada
CATEGORIES:Cuisines collectives et ateliers cuisine,Salaberry-de-Valleyfield
ATTACH;FMTTYPE=image/jpeg:https://approchefamilles.ca/wp-content/uploads/2025/03/soupes-et-desserts.jpg
ORGANIZER;CN="ABC de la famille":MAILTO:info@abcfamille.ca
END:VEVENT
END:VCALENDAR