BEGIN:VCALENDAR
VERSION:2.0
PRODID:-//Approche Familles - ECPv6.15.20//NONSGML v1.0//EN
CALSCALE:GREGORIAN
METHOD:PUBLISH
X-WR-CALNAME:Approche Familles
X-ORIGINAL-URL:https://approchefamilles.ca
X-WR-CALDESC:Évènements pour Approche Familles
REFRESH-INTERVAL;VALUE=DURATION:PT1H
X-Robots-Tag:noindex
X-PUBLISHED-TTL:PT1H
BEGIN:VTIMEZONE
TZID:UTC
BEGIN:STANDARD
TZOFFSETFROM:+0000
TZOFFSETTO:+0000
TZNAME:UTC
DTSTART:20240101T000000
END:STANDARD
END:VTIMEZONE
BEGIN:VEVENT
DTSTART;TZID=UTC:20250214T090000
DTEND;TZID=UTC:20250214T110000
DTSTAMP:20260421T053209
CREATED:20241219T211955Z
LAST-MODIFIED:20241219T211955Z
UID:3368-1739523600-1739530800@approchefamilles.ca
SUMMARY:Les capitaines - Halte Familiale
DESCRIPTION:Les Capitaines\nAtelier parents enfants sur le développement du langage \nDe 9 h à 11 h \nDans les locaux de la Halte
URL:https://approchefamilles.ca/event/les-capitaines-halte-familiale-17/
LOCATION:Halte Familiale\, 600\, rue Ellice\, Beauharnois\, Québec\, J6N 3P7\, Canada
CATEGORIES:Beauharnois,Orthophonie communautaire
END:VEVENT
BEGIN:VEVENT
DTSTART;TZID=UTC:20250214T090000
DTEND;TZID=UTC:20250214T113000
DTSTAMP:20260421T053209
CREATED:20241217T210736Z
LAST-MODIFIED:20241217T210736Z
UID:3196-1739523600-1739532600@approchefamilles.ca
SUMMARY:P'tits pirates - Stimulation du langage
DESCRIPTION:Les p’tits pirates 2-3 ans\nStimulation du langage\nDu 24 janvier au 21 mars 2025\n\nCes ateliers ciblent la stimulation du langage pour les enfants 3-5 ans. En partenariat avec le CISSSMO Salaberry-de-Valleyfield\, nous accueillons les enfants qui éprouvent des défis au niveau de la communication et qui sont en attente d’une consultation auprès d’une orthophoniste du réseau public. Toutefois\, si vous avez des inquiétudes pour votre enfant\, il est toujours possible de nous contacter afin d’évaluer votre situation et de vous offrir une place.\n\n\n\nPlus précisément : \n\n\n\n\n\naider l’enfant à développer son estime de soi et son autonomie ;\nfavoriser le développement des habiletés langagières de l’enfant par des activités ciblées en stimulation du langage ;\npermettre d’accroître et de maximiser le processus du développement des précurseurs à la communication ;\noutiller et soutenir les parents à utiliser des stratégies d’intervention et des activités à la maison ;\naugmenter chez les parents la confiance en leurs compétences ;\ninformer les parents afin qu’ils développent de nouvelles compétences pour soutenir le développement du langage de son enfant.
URL:https://approchefamilles.ca/event/ptits-pirates-stimulation-du-langage-4/
LOCATION:ABC de la Famille\, 20\, rue St-Pierre\, Salaberry-de-Valleyfield\, Québec\, J6T 1E7\, Canada
CATEGORIES:Orthophonie communautaire,Salaberry-de-Valleyfield
ATTACH;FMTTYPE=image/jpeg:https://approchefamilles.ca/wp-content/uploads/2024/12/ptits-pirates.jpg
ORGANIZER;CN="ABC de la famille":MAILTO:info@abcfamille.ca
END:VEVENT
BEGIN:VEVENT
DTSTART;TZID=UTC:20250214T090000
DTEND;TZID=UTC:20250214T150000
DTSTAMP:20260421T053209
CREATED:20241219T232627Z
LAST-MODIFIED:20241219T232627Z
UID:3402-1739523600-1739545200@approchefamilles.ca
SUMMARY:Cuisines collectives - Halte Familiale
DESCRIPTION:Cuisines collectives\nTous les vendredis\, de 9 h à 15 h \nLes cuisines collectives permettent : \n\n\n\n\n\nd’économiser du temps dans la préparation des repas ;\nd’économiser de l’argent en cuisinant à bas prix ;\nd’apprendre à préparer des repas variés et nutritifs ;\nde donner le goût de cuisiner\, de partager ses connaissances et de créer des liens avec les autres participants.\n\nPour inscription\, contacter la Halte Familiale au 450 225-2725
URL:https://approchefamilles.ca/event/cuisines-collectives-halte-familiale-18/
LOCATION:Halte Familiale\, 600\, rue Ellice\, Beauharnois\, Québec\, J6N 3P7\, Canada
CATEGORIES:Beauharnois,Cuisines collectives et ateliers cuisine
END:VEVENT
END:VCALENDAR