BEGIN:VCALENDAR
VERSION:2.0
PRODID:-//Approche Familles - ECPv6.15.19//NONSGML v1.0//EN
CALSCALE:GREGORIAN
METHOD:PUBLISH
X-WR-CALNAME:Approche Familles
X-ORIGINAL-URL:https://approchefamilles.ca
X-WR-CALDESC:Évènements pour Approche Familles
REFRESH-INTERVAL;VALUE=DURATION:PT1H
X-Robots-Tag:noindex
X-PUBLISHED-TTL:PT1H
BEGIN:VTIMEZONE
TZID:UTC
BEGIN:STANDARD
TZOFFSETFROM:+0000
TZOFFSETTO:+0000
TZNAME:UTC
DTSTART:20240101T000000
END:STANDARD
END:VTIMEZONE
BEGIN:VEVENT
DTSTART;TZID=UTC:20250129T090000
DTEND;TZID=UTC:20250129T110000
DTSTAMP:20260419T101528
CREATED:20241218T224856Z
LAST-MODIFIED:20241218T224856Z
UID:3286-1738141200-1738148400@approchefamilles.ca
SUMMARY:Groupe langage CISSSMO - Halte Familiale
DESCRIPTION:Atelier pour parents/enfants de 3-5 ans ayant pour but d’outiller les familles en attentes de services d’orthophonie. \n\n9 h à 11 h\nChaque mercredi matin\nPour 10 semaines approximativement\n\nPour s’inscrire\, contacter la Halte familiale au 450 225-2725
URL:https://approchefamilles.ca/event/groupe-langage-cisssmo-halte-familiale-3/
LOCATION:Halte Familiale\, 600\, rue Ellice\, Beauharnois\, Québec\, J6N 3P7\, Canada
CATEGORIES:Beauharnois,Orthophonie communautaire
END:VEVENT
BEGIN:VEVENT
DTSTART;TZID=UTC:20250129T090000
DTEND;TZID=UTC:20250129T113000
DTSTAMP:20260419T101528
CREATED:20241217T200927Z
LAST-MODIFIED:20241217T201004Z
UID:3136-1738141200-1738150200@approchefamilles.ca
SUMMARY:YAPP - ABC de la famille
DESCRIPTION:YAPP\nAtelier pour parents : Y’a personne de parfait \nDu 22 janvier au 19 mars 2025 \nYAPP est un programme d’enrichissement de l’expérience parentale\, offert pour les parents d’enfants âgés de cinq ans et moins. Il s’agit d’une série de 8 à 10 rencontres et le programme est conçu pour répondre aux besoins des parents. \n\n\n\nLes parents participent à des rencontres de groupe qui visent à :\n\n\n\n\npromouvoir les compétences parentales positives ;\naméliorer la compréhension des parents à l’égard de la santé\, de la sécurité et du comportement de leurs enfants ;\naider les parents à renforcer leurs compétences et à en acquérir de nouvelles ;\naméliorer l’estime de soi et la capacité d’adaptation des parents ;\naccroître l’entraide et le soutien mutuel des parents ;\nmettre les parents en contact avec les services et les ressources communautaires ;\naider à prévenir la violence familiale
URL:https://approchefamilles.ca/event/yapp-abc-de-la-famille-12/
LOCATION:ABC de la Famille\, 20\, rue St-Pierre\, Salaberry-de-Valleyfield\, Québec\, J6T 1E7\, Canada
CATEGORIES:Ateliers parents seulement,Salaberry-de-Valleyfield
ATTACH;FMTTYPE=image/jpeg:https://approchefamilles.ca/wp-content/uploads/2024/12/YAPP.jpg
ORGANIZER;CN="ABC de la famille":MAILTO:info@abcfamille.ca
END:VEVENT
BEGIN:VEVENT
DTSTART;TZID=UTC:20250129T090000
DTEND;TZID=UTC:20250129T233000
DTSTAMP:20260419T101528
CREATED:20241216T221049Z
LAST-MODIFIED:20241216T221049Z
UID:3116-1738141200-1738193400@approchefamilles.ca
SUMMARY:Soupes\, entrées et desserts - ABC de la famille
DESCRIPTION:Atelier de cuisine pour les parents\nSur les soupes\, entrées et desserts\nDu 22 janvier au 19 mars 2025 \nUn atelier pour cuisiner des gourmandises en groupe et rapporter des desserts pour toute la famille.\nPour vous inscrire\, vous devez obligatoirement devenir membre de l’ABC de la famille\, il vous en coutera 5 $ annuellement\, renouvelable à partir de juin l’année suivante. \nIl y a une halte-garderie disponible gratuitement pendant les ateliers. \nEt sur demande\, le transport est gratuit
URL:https://approchefamilles.ca/event/soupes-entrees-et-desserts-abc-de-la-famille-2/
LOCATION:ABC de la Famille\, 20\, rue St-Pierre\, Salaberry-de-Valleyfield\, Québec\, J6T 1E7\, Canada
CATEGORIES:Cuisines collectives et ateliers cuisine,Salaberry-de-Valleyfield
ATTACH;FMTTYPE=image/png:https://approchefamilles.ca/wp-content/uploads/2024/12/soupes.png
ORGANIZER;CN="ABC de la famille":MAILTO:info@abcfamille.ca
END:VEVENT
BEGIN:VEVENT
DTSTART;TZID=UTC:20250129T183000
DTEND;TZID=UTC:20250129T203000
DTSTAMP:20260419T101528
CREATED:20241218T231727Z
LAST-MODIFIED:20241218T231727Z
UID:3335-1738175400-1738182600@approchefamilles.ca
SUMMARY:Espace Parents
DESCRIPTION:Espace parents\nDe 9 h à 11 h \nPour les familles immigrantes
URL:https://approchefamilles.ca/event/espace-parents-3/
LOCATION:Halte Familiale\, 600\, rue Ellice\, Beauharnois\, Québec\, J6N 3P7\, Canada
CATEGORIES:Beauharnois,Groupe d'entraide
ATTACH;FMTTYPE=image/png:https://approchefamilles.ca/wp-content/uploads/2024/12/Espace-parent.png
END:VEVENT
END:VCALENDAR