BEGIN:VCALENDAR
VERSION:2.0
PRODID:-//Approche Familles - ECPv6.15.19//NONSGML v1.0//EN
CALSCALE:GREGORIAN
METHOD:PUBLISH
X-WR-CALNAME:Approche Familles
X-ORIGINAL-URL:https://approchefamilles.ca
X-WR-CALDESC:Évènements pour Approche Familles
REFRESH-INTERVAL;VALUE=DURATION:PT1H
X-Robots-Tag:noindex
X-PUBLISHED-TTL:PT1H
BEGIN:VTIMEZONE
TZID:UTC
BEGIN:STANDARD
TZOFFSETFROM:+0000
TZOFFSETTO:+0000
TZNAME:UTC
DTSTART:20230101T000000
END:STANDARD
END:VTIMEZONE
BEGIN:VEVENT
DTSTART;VALUE=DATE:20240821
DTEND;VALUE=DATE:20240822
DTSTAMP:20260420T081254
CREATED:20240614T195433Z
LAST-MODIFIED:20240614T195433Z
UID:2116-1724198400-1724284799@approchefamilles.ca
SUMMARY:Biblio-parc & caravane des arts - Beauharnois
DESCRIPTION:Biblio-parc\nAnimé par la Halte Familiale\nLa bibliothèque sort de ses murs et s’invite au parc !\nInstallez-vous confortablement sur une couverture et laissez-vous emporter par le plaisir de la lecture en plein air et plongez dans notre sélection soigneusement choisie ! \nCaravane de arts\nVous cherchez une activité culturelle pour cet été ? Ne manquez pas la Caravane des arts\, qui se déplacera dans les différents parcs de la ville tout au long de la saison estivale. Que vous soyez petit ou grand\, la caravane offre une multitude de matériel artistique tels que des papiers\, crayons\, peintures\, ciseaux et plus encore pour permettre à votre créativité de s’exprimer. Venez découvrir les joies de la peinture\, de l’origami\, du bricolage\, de la confection et bien d’autres activités. Ouvert à tous les âges\, la Caravane des arts est en partenariat avec la Halte-Familiale. Ne manquez pas cette occasion de passer des moments agréables et de faire des découvertes artistiques en plein air ! \nSAISON 2024  \nParc Sauvé \n28\, 29 e t 30 juin\n12 et 14 juillet\n13 juillet – Exceptionnellement de 9 h à 16 h \nParc Bourcier: \n5\, 6 e t 7 juillet\n2\, 3\, 4\, 16\, 17 et 18 août \nCentre communautaire \n3\, 10\, 17\, 24 et 31 juillet\n7\, 14 et 21 août \nPiscine municipale \n4 et 18 juillet\n1er et 15 août \nParc des Cèdres\n11\, 19\, 20\, 21 et 15 juillet\n8 et 22 août \nParc des Générations(skatepark)\n26\, 27 et 28 juillet\n9 août \nRue Ellice \n10 août \nExceptionnellement de 9 h à 16 h
URL:https://approchefamilles.ca/event/biblio-parc-caravane-des-arts-beauharnois-10/
LOCATION:Centre communautaire de Beauharnois\, 600 Rue Ellice\, Beauharnois\, Québec\, J6N 3P7\, Canada
CATEGORIES:Beauharnois,Pour toute la famille
END:VEVENT
BEGIN:VEVENT
DTSTART;TZID=UTC:20240821T100000
DTEND;TZID=UTC:20240821T120000
DTSTAMP:20260420T081254
CREATED:20240801T185412Z
LAST-MODIFIED:20240801T185412Z
UID:2430-1724234400-1724241600@approchefamilles.ca
SUMMARY:Bingo!
DESCRIPTION:De 10 h à 12 avec Michelle et Laurie \nÀ la sacristie de l’église (stationnement d’Actions Familles)
URL:https://approchefamilles.ca/event/bingo/
LOCATION:Actions Familles\, 122\, Saint-Joseph\, Sainte-Martine\, Québec\, J0S 1V0\, Canada
CATEGORIES:Pour toute la famille,Sainte-Martine
ORGANIZER;CN="Actions Familles":MAILTO:info@actionsfamilles.org
END:VEVENT
BEGIN:VEVENT
DTSTART;TZID=UTC:20240821T103000
DTEND;TZID=UTC:20240821T160000
DTSTAMP:20260420T081254
CREATED:20240621T192317Z
LAST-MODIFIED:20240621T192317Z
UID:2322-1724236200-1724256000@approchefamilles.ca
SUMMARY:Pique-nique et tente à lire - ABC de la famille
DESCRIPTION:Pique-nique et Tente à lire\n\nDurant la période estivale\, vous pouvez apercevoir la tente Hilalu dans les différents parcs de Salaberry-de-Valleyfield. Le concept de ce projet est de permettre aux enfants d’avoir accès à différents livres et de les explorer au grand air. L’animatrice est également sur place pour échanger avec les parents et leur partager des trucs et astuces sur l’éveil à la lecture et à l’écriture.\n\n\nC’est un beau moment pour les familles afin de découvrir de nouveaux livres et de rencontrer de nouvelles personnes.\n\n\n3 juillet – ABC de la famille\n10 juillet –  Parc Gagnier\n17 juillet – ABC de la famille\n24 juillet – Parc des éperviers\n31 juillet – ABC de la famille\n7 août – Parc Morin\n14 août – ABC de la famille\n21 août – C’est la fête au parc Delpha-Sauvé\n\nApporte ton lunch\, ta serviette\, ton maillot et ta crème solaire\nSurveillez le https://www.facebook.com/abcfamille en cas de pluie\, pour savoir si l’activité a lieu
URL:https://approchefamilles.ca/event/pique-nique-et-tente-a-lire-abc-de-la-famille-8/
LOCATION:Parc Delpha-Sauvé\, Valleyfield\, 240\, rue Victoria\, Salaberry-de-Valleyfield\, Québec\, J6T 1B8\, Canada
CATEGORIES:Pour toute la famille,Salaberry-de-Valleyfield
ATTACH;FMTTYPE=image/jpeg:https://approchefamilles.ca/wp-content/uploads/2024/06/448241772_478764321512511_9202470492687675497_n.jpg
ORGANIZER;CN="ABC de la famille":MAILTO:info@abcfamille.ca
END:VEVENT
BEGIN:VEVENT
DTSTART;TZID=UTC:20240821T130000
DTEND;TZID=UTC:20240821T153000
DTSTAMP:20260420T081254
CREATED:20240625T185645Z
LAST-MODIFIED:20240625T185645Z
UID:2360-1724245200-1724254200@approchefamilles.ca
SUMMARY:Cuisines collectives estivales - ABC de la famille
DESCRIPTION:Nos cuisines collectives permettent de concocter des recettes économiques en groupe de 4-5 participants. Un diner vous sera servi gratuitement Les participants retournent à la maison avec les portions nécessaires pour leur famille. L’animatrice cuisine avec les participants le dîner afin d’échanger tous ensemble autour d’un bon repas. \nLes cuisines collectives permettent : \n\nd’économiser du temps dans la préparation des repas ;\nd’économiser de l’argent en cuisinant à bas prix ;\nd’apprendre à préparer des repas variés et nutritifs ;\nde donner le goût de cuisiner\, de partager ses connaissances et de créer des liens avec les autres participants.
URL:https://approchefamilles.ca/event/cuisines-collectives-estivales-abc-de-la-famille-9/
LOCATION:ABC de la Famille\, 20\, rue St-Pierre\, Salaberry-de-Valleyfield\, Québec\, J6T 1E7\, Canada
CATEGORIES:Cuisines collectives et ateliers cuisine,Salaberry-de-Valleyfield
ORGANIZER;CN="ABC de la famille":MAILTO:info@abcfamille.ca
END:VEVENT
END:VCALENDAR